BEGIN:VCALENDAR
PRODID:NingEventWidget-v1
VERSION:2.0
METHOD:PUBLISH
BEGIN:VEVENT
UID:3186561:Event:53616
DTSTAMP:20210313T173718Z
SUMMARY:Colorado Conservatives Meeting:  GOP Chairman Candidates Ryan 
 Call and Steve House
DESCRIPTION:Update (02/20/2015):  Nancy Doty advised there are only 1
 0 seats remaining.  RSVP to Nancy to get a seat.\n*******************
 ******\nNancy Doty has invited both Ryan Call and Steve House, candida
 tes for chairman of the Colorado GOP, to the Colorado Conservatives' m
 onthly dinner meeting.  Space is limited and the meeting is always pa
 cked so it is imperative to RSVP to Nancy Doty soon and plan to arrive
  early for dinner and a good seat.\nBoth candidates will be given equa
 l time to share their vision for the future of the GOP in Colorado, ho
 w they plan to help Republican candidates win in 2016, and how best to
  unite all Conservatives going forward.  Thoughtful questions for the
  candidates will be submitted to the moderator in written form.  Both
  candidates will have equal time to respond. When:    Wednesday, Feb
 ruary 25, 2015Time:     6:30 p.m. (arrive earlier recommended)\nWhe
 re:  Las Brisas\n              6787 S. Clinton Street,\n    
           Greenwood Village, CO\n.\nPlease note that we now meet 
 at Las Brisas!  Everyone is welcome!  Arrive early for a good seat. 
  RSVP soon.\nAlso, there is a $10 cover charge which includes a taco 
 bar buffet (includes dessert).  Alcoholic beverages can be purchased 
 at a separate cash bar.\nPlease rsvp to nancydoty@comcast.net by Mo
 nday, February 23 so the restaurant can adequately plan for our group
 .  [These meetings always draw a crowd and space is limited.]\n \n\n
 \n \n\n***************\n\n\n\n\n\n\n\n\n\n\n\n\nNote Las Brisas web s
 ite:\nhttp://www.lasbrisascolorado.com/\nmap:\nhttp://mapq.st/1ce8EiK\
 n \n\nFor more information visit http://arapahoeteaparty.ning.com/eve
 nts/colorado-conservatives-meeting-gop-chairman-candidates-ryan-call-
DTSTART:20150226T013000Z
DTEND:20150226T040000Z
CATEGORIES:meeting
LOCATION:Las Brisas
WEBSITE:http://mapq.st/1ce8EiK
URL:http://mapq.st/1ce8EiK
CONTACT:Please RSVP to nancydoty@comcast.net
ORGANIZER:Nancy Doty [posted by W. Branstetter]
ATTACH;FMTTYPE="image/jpeg":
ATTENDEE;ROLE=REQ-PARTICIPANT;PARTSTAT=ACCEPTED;RSVP=TRUE;CN="W. Brans
 tetter":http://arapahoeteaparty.ning.com/profile/WBranstetter
END:VEVENT
END:VCALENDAR
