BEGIN:VCALENDAR
PRODID:NingEventWidget-v1
VERSION:2.0
METHOD:PUBLISH
BEGIN:VEVENT
UID:3186561:Event:55521
DTSTAMP:20210313T181859Z
SUMMARY:Colorado Conservatives Meeting:  George Brauchler District (18
 ) Attorney (Event needs RSVP to Nancy Doty)
DESCRIPTION:Nancy Doty announced at the October meeting that the next 
 speaker would be George Brauchler, District Attorney for District 18. 
  The Colorado Conservative meetings require RSVP so the restaurant ca
 n plan the buffet serving.  Nancy Doty will have a written announceme
 nt closer to the event.\nRSVP’s are a must. Please RSVP to nancydot
 y@comcast.net by Monday, November 16. Seating is limited.\n \nPleas
 e note: There is a $12 cover charge which includes a taco bar buffe
 t (includes coffee, soft drink and dessert).\nThere is a separate cas
 h bar for alcoholic drinks, wine and beer.\n \nEveryone is welcome.\n
  \nRSVPs are a must.  Please RSVP to Nancy Doty at nancydoty@comca
 st.net by Monday noon, November 16.  \n\n\n\nWhen:    Wednesday,
  November 18, 2015Time:     6:30 p.m. \nWhere:  Las Brisas\n   
            6787 S. Clinton Street,\n              Greenwoo
 d Village, CO\nCost:  $12.00 \n.\nArrive early for a good seat.\nLas
  Brisas expects payment for each RSVP is a meal prepared-- if you rsv
 p and then do not attend, then please know that you will be required t
 o cover the cost of your meal as the restaurant has incurred the expen
 se and requires the payment for the meal.\n******************\nColorad
 o Conservatives usually meets the 4th Wednesday but holidays and other
  events sometimes changes to an earlier date.\n\n\n \n\n*************
 **\n\n\n\n\n\n\n\n\n\n\n\n\nNote Las Brisas web site:\nhttp://www.lasb
 risascolorado.com/\nmap:\nhttp://mapq.st/1ce8EiK\n \n\nFor more infor
 mation visit http://arapahoeteaparty.ning.com/events/colorado-conserva
 tives-meeting-george-brauchler-district-18-attor
DTSTART:20151119T013000Z
DTEND:20151119T040000Z
CATEGORIES:meeting
LOCATION:Las Brisas
WEBSITE:http://mapq.st/1ce8EiK
URL:http://mapq.st/1ce8EiK
CONTACT:Please RSVP to nancydoty@comcast.net
ORGANIZER:Nancy Doty [posted by W. Branstetter]
ATTACH;FMTTYPE="image/jpeg":
ATTENDEE;ROLE=REQ-PARTICIPANT;PARTSTAT=ACCEPTED;RSVP=TRUE;CN="W. Brans
 tetter":http://arapahoeteaparty.ning.com/profile/WBranstetter
END:VEVENT
END:VCALENDAR
