BEGIN:VCALENDAR
PRODID:NingEventWidget-v1
VERSION:2.0
METHOD:PUBLISH
BEGIN:VEVENT
UID:3186561:Event:44748
DTSTAMP:20210313T171758Z
SUMMARY:Colorado Conservatives Meeting:  Frank Francone on \"Obama Car
 e\"
DESCRIPTION: Nancy Doty writes:\n \n\"Please join us to hear a lively
  discussion about the Affordable Care Act known as Obama Care.  It is
  the most important piece of health related legislation in U.S. histor
 y.  Mr. Frank Francone will inform us about what this Act will do to 
 our insurance costs, how it will change the way doctors and hospitals 
 do business, how it will affect those uninsured and how it will impact
  our future health care.\n \nMr. Francone graduated from Claremont Me
 n's College in Economics, earned his law degree from Boalt Hall, and h
 olds and advanced degree in Earth and Energy Science, Complex Systems 
 from Chalmers University of Technology.  He recently became a researc
 h fellow at the Colorado's Centennial Institute and specializes in hea
 lth care issues, second amendment issues, and fiscal policy.\n\nThis w
 ill be a dynamic meeting.  Please bring your family and friends.  Al
 l are welcome.\"\n \nWhen:  Wednesday, April 24, 2013, 6:30 p.m.\n 
 \nWhere:\nGarcia's Mexican Restaurant\n5050 S. Syracuse Street,\nDenve
 r, CO 80237\nJust off I-25 and Belleview\n  \nPlease invite your fri
 ends and family.  All are welcome!  Please RSVP to Nancy Doty so tha
 t some idea is available for the size of the room and if additional st
 aff will be needed for dinner orders.\n \nPlease RSVP to nancydoty@co
 mcast.net\n \nNOTE:  Garcia's is located just off I-25 and Belleview
 .  We will have our own room and waiter.  While there is no cover ch
 arge for our group, please do plan to order something to eat and drink
  as the group must order at least $250 worth of food/beverage for us t
 o continue to meet there.\n  \n\n\n\n\n\n\n\n\n\n\n\n\n**************
 **************\n \nNote:  This group has been meeting about two year
 s and has some very good topics and speakers.  Their events are poste
 d at Meetup.com; check them out; bring a friend.\n  \nPlease RSVP dir
 ectly to Nancy Doty coordinating for the group by Monday April 22 to r
 eserve seat(s) for this event.\n\nhttp://www.meetup.com//Conservative-
 Adult-Singles/events/calendar/\n \n\nFor more information visit http:
 //arapahoeteaparty.ning.com/events/colorado-conservatives-meeting-fran
 k-francone-on-obama-care
DTSTART:20130425T003000Z
DTEND:20130425T030000Z
CATEGORIES:meeting
LOCATION:Garcia's Mexican Restaurant
WEBSITE:http://www.meetup.com/Conservative-Adult-Singles/events/
URL:http://www.meetup.com/Conservative-Adult-Singles/events/
CONTACT:Please RSVP to nancydoty@comcast.net
ORGANIZER:Nancy Doty [posted by W. Branstetter]
ATTACH;FMTTYPE="image/jpeg":
ATTENDEE;ROLE=REQ-PARTICIPANT;PARTSTAT=ACCEPTED;RSVP=TRUE;CN="W. Brans
 tetter":http://arapahoeteaparty.ning.com/profile/WBranstetter
END:VEVENT
END:VCALENDAR
