BEGIN:VCALENDAR
PRODID:NingEventWidget-v1
VERSION:2.0
METHOD:PUBLISH
BEGIN:VEVENT
UID:3186561:Event:47821
DTSTAMP:20210313T171753Z
SUMMARY:Colorado Conservatives Meeting:  Father Andrew Kemberling
DESCRIPTION:Please join us to hear from Father Andrew Kemberling, a v
 ery popular priest who will talk about how the new health care legisl
 ation could affect our religious freedoms, what the church teaches abo
 ut getting involved in foreign disputes and immigration. \nFather And
 rew is always willing to answer tough questions, so come prepared to g
 et your questions answered.\n \nFather Andrew is the pastor at St. Th
 omas More Parish in Centennial, Colorado.  Born in Arizona, he is one
  of 10 children and has been a priest for over 25 years.  He is a ver
 y popular speaker for groups across the metro area, and we are blessed
  to have him join us next week.\n \nEveryone is welcome, so please in
 vite family and friends to learn about this issue.  There is no room 
 charge, but attendees are urged to purchase a food or drink item to he
 lp defray the cost to the restaurant.\n\nPlease rsvp by noon on Monda
 y, October 21st so that the restaurant can adequately plan for servic
 e for our group.\n \n Please e-mail Nancy Doty (address below) if y
 ou plan to attend so that arrangements for the room and staff can be
  made.   \n \nEveryone is welcome, so please invite family and fri
 ends to hear about these important issues.  Also, there is no room ch
 arge, but attendees are urged to purchase a food or drink item to help
  defray the cost to the restaurant.\"\n \nWhen:  Wednesday, October
  23, 2013, 6:30 p.m.\n \nWhere:\nGarcia's Mexican Restaurant\n5050 S.
  Syracuse Street,\nDenver, CO 80237\nJust off I-25 and Belleview\n  
 \nPlease invite your friends and family.  All are welcome!  Please R
 SVP to Nancy Doty so that some idea is available for the size of the r
 oom and if additional staff will be needed for dinner orders.\n \nPle
 ase RSVP to nancydoty@comcast.net\n \nNOTE:  Garcia's is located jus
 t off I-25 and Belleview.  We will have our own room and waiter.  Wh
 ile there is no cover charge for our group, please do plan to order so
 mething to eat and drink as the group must order at least $250 worth o
 f food/beverage for us to continue to meet there.\n*******************
 **\n\n\n\n\n\n\n\n\n\n\n\n\n \nNote:  This group has been meeting ab
 out two years and has some very good topics and speakers.  Their even
 ts are posted at Meetup.com; check them out; bring a friend.\n\nThe la
 st time Father Kimberling spoke the room was packed.\n ***************
 *******\n \n \n \n\nFor more information visit http://arapahoeteapa
 rty.ning.com/events/colorado-conservatives-meeting-father-andrew-kembe
 rling
DTSTART:20131024T003000Z
DTEND:20131024T033000Z
CATEGORIES:meeting
LOCATION:Garcia's Mexican Restaurant
WEBSITE:http://www.meetup.com/Conservative-Adult-Singles/events/
URL:http://www.meetup.com/Conservative-Adult-Singles/events/
CONTACT:Please RSVP to nancydoty@comcast.net
ORGANIZER:Nancy Doty [posted by W. Branstetter]
ATTACH;FMTTYPE="image/jpeg":
ATTENDEE;ROLE=REQ-PARTICIPANT;PARTSTAT=ACCEPTED;RSVP=TRUE;CN="Lisa G S
 pear":http://arapahoeteaparty.ning.com/profile/LisaGSpear
ATTENDEE;ROLE=REQ-PARTICIPANT;PARTSTAT=ACCEPTED;RSVP=TRUE;CN="W. Brans
 tetter":http://arapahoeteaparty.ning.com/profile/WBranstetter
END:VEVENT
END:VCALENDAR
