BEGIN:VCALENDAR
PRODID:NingEventWidget-v1
VERSION:2.0
METHOD:PUBLISH
BEGIN:VEVENT
UID:3186561:Event:59078
DTSTAMP:20210313T170958Z
SUMMARY:Colorado Conservatives Meeting:  Dick Wadhams (Please RSVP to 
 Nancy Doty)
DESCRIPTION:Must RSVP to Nancy Doty to be seated!\nWhen: Wednesday, Oc
 tober 26, 2016 at 6:30 p.m. \nWhere:  Las Brisas\n           
  6787 South Clinton Street\n            Greenwood Village, CO 80
 112\n     Just east of I-25 and Arapahoe Road, across from Target\n
 Nancy Doty writes:  Please join us to hear from Dick Wadhams, politic
 al consultant and former Colorado Republican State Chairman.\nDick is 
 a political analyst for KCNC/CBS4. He previously worked for Colorado U
 .S. Senators Bill Armstrong, Hank Brown and Wayne Allard and Governor
  Bill Owens. Dick will give us the latest information about this elect
 ion---just a few days before it’s official. Let’s hear who he thi
 nks will be the winners and losers on November 8th.\n\n \nPlease Note
 : There is a $12 cover charge which includes a taco bar buffet, soft
  drink, dessert and the cost of the meeting room. Alcoholic drinks can
  be purchased at a separate cash bar.\n \nAlso, if you RSVP and then 
 do not attend, you will be required to cover the cost of your meal as 
 the restaurant has incurred the expense and requires payment for the m
 eal.\n \n\n\nEvents are very well attended and seating is limited.\nR
 SVPs are required by Monday, October 24 noon to nancydoty@comcast.net
 \n  \n\nArrive early (6:00 p.m.) for a good seat.\nEveryone is welco
 me, so please invite family and friends.\n \n\n***************\n\n\n\
 n\n\n\n\n\n\n\n\n\nNote Las Brisas web site:\nhttp://www.lasbrisascolo
 rado.com/\nmap:\nhttp://mapq.st/1ce8EiK\n \n\nFor more information vi
 sit http://arapahoeteaparty.ning.com/events/colorado-conservatives-mee
 ting-dick-wadhams-please-rsvp-to-nancy-
DTSTART:20161027T003000Z
DTEND:20161027T030000Z
CATEGORIES:meeting
LOCATION:Las Brisas
WEBSITE:http://mapq.st/1ce8EiK
URL:http://mapq.st/1ce8EiK
CONTACT:Please RSVP to nancydoty@comcast.net by Oct. 24
ORGANIZER:Nancy Doty [posted by W. Branstetter]
ATTACH;FMTTYPE="image/jpeg":
ATTENDEE;ROLE=REQ-PARTICIPANT;PARTSTAT=TENTATIVE;RSVP=TRUE;CN="W. Bran
 stetter":http://arapahoeteaparty.ning.com/profile/WBranstetter
END:VEVENT
END:VCALENDAR
