BEGIN:VCALENDAR
PRODID:NingEventWidget-v1
VERSION:2.0
METHOD:PUBLISH
BEGIN:VEVENT
UID:3186561:Event:58969
DTSTAMP:20210313T182506Z
SUMMARY:Colorado Conservatives Meeting:  Derrick Wilburn, Vice-Chair C
 olorado GOP (Please RSVP to Nancy Doty)
DESCRIPTION:When: Wednesday, May 25, 2016 at 6:30 p.m.\nWhere:  Las 
 Brisas\n            6787 South Clinton Street\n           
  Greenwood Village, CO 80112\n     Just east of I-25 and Arapahoe R
 oad, across from Target\nNancy Doty writes:  Due to a situation that 
 has occurred, Steve House cannot speak at our Meetup this coming Wed
 nesday, the 25th.  However, State Party Vice Chairman, Derrick Wilbur
 n, will be our speaker and will discuss the State GOP Plans on how t
 o win in November, the status on a Presidential Primary, the National 
 Convention and a Trump Presidency.  If you've ever heard Derrick sp
 eak on political issues, you know we're in for a special treat.\nDue t
 o the featured speaker change, I'm asking everyone to re-rsvp again (
 by Monday, the 23rd) so I'll have an accurate count for the restaura
 nt...even if you've already rsvp'd.  Please!\n \nPlease Note: There
  is a $12 cover charge which includes a taco bar buffet, soft drink, 
 dessert and the cost of the meeting room. Alcoholic drinks can be purc
 hased at a separate cash bar.\n \nAlso, if you RSVP and then do not a
 ttend, you will be required to cover the cost of your meal as the rest
 aurant has incurred the expense and requires payment for the meal.\n 
 \n\n\nEvents are very well attended and seating is limited.\nRSVPs are
  required by Monday, May 23 noon to nancydoty@comcast.net\n  \n\nAr
 rive early (6:00 p.m.) for a good seat.\nEveryone is welcome, so pleas
 e invite family and friends.\n\nNO Meeting in June and July.\n \n\n\n
 ***************\n\n\n\n\n\n\n\n\n\n\n\n\nNote Las Brisas web site:\nht
 tp://www.lasbrisascolorado.com/\nmap:\nhttp://mapq.st/1ce8EiK\n \n\nF
 or more information visit http://arapahoeteaparty.ning.com/events/colo
 rado-conservatives-meeting-derrick-wilburn-vice-chair-colorad
DTSTART:20160526T003000Z
DTEND:20160526T030000Z
CATEGORIES:meeting
LOCATION:Las Brisas
WEBSITE:http://mapq.st/1ce8EiK
URL:http://mapq.st/1ce8EiK
CONTACT:Please RSVP to nancydoty@comcast.net
ORGANIZER:Nancy Doty [posted by W. Branstetter]
ATTACH;FMTTYPE="image/jpeg":
ATTENDEE;ROLE=REQ-PARTICIPANT;PARTSTAT=TENTATIVE;RSVP=TRUE;CN="W. Bran
 stetter":http://arapahoeteaparty.ning.com/profile/WBranstetter
END:VEVENT
END:VCALENDAR
