BEGIN:VCALENDAR
PRODID:NingEventWidget-v1
VERSION:2.0
METHOD:PUBLISH
BEGIN:VEVENT
UID:3186561:Event:49126
DTSTAMP:20210313T183043Z
SUMMARY:Colorado Conservatives Meeting:  Craig Silverman
DESCRIPTION:Nancy Doty writes:  \"Please plan to join us to hear fromÂ
  Craig Silverman, a partner in the downtown Denver law firm of Silverm
 an & Olivas, P.C. CraigÂ was co-host of the award winning Caplis and S
 ilvermanÂ afternoon drive time radio show on KHOW. Craig, as an Indepe
 ndent voter, has opinions about the political activities occurring in 
 our state and will share his thoughts about who will win in November. 
 Craig has appeared hundreds of times on local and national media discu
 ssing important topics such as the death penalty, serial rapists, the 
 JonBenet Ramsey case, Columbine, and the Aurora movie theater massacre
 .\"\nÂ \nPLEASE NOTE:Â  OUR MEETING LOCATION IS NOW AT LAS BRISAS\nÂ \
 nALSO,Â rather than ordering from the menu, there will be an optional 
 taco bar buffet for $10 per person.Â  This includes dessert and soda/c
 offee.Â  Alcoholic drinks will be a separate cash bar.\nÂ \nÂ \nEveryo
 ne is welcome, so please invite family and friends.\nÂ \nPlease RSVP b
 y noon onÂ Monday,Â March 24 so that the restaurant can adequately pla
 n for service for our group.\nÂ \nPlease e-mail Nancy Doty (address be
 low)Â if youÂ plan to attendÂ so that arrangements for the room and st
 aff can be made.Â Â Â Â nancydoty@comcast.netÂ \nÂ Â \nWhen:Â  Wednesd
 ay,Â March 26, 2014, 6:30 p.m.\nÂ \nWhere (new location):\nLas Brisas\
 n6787 S. Clinton Street, Greenwood Village, CO\nJust east of I-25 and 
 Arapahoe Road\nÂ \nPlease invite your friends and family.Â  All are we
 lcome! Â \nÂ \nPlease RSVP to nancydoty@comcast.net\nÂ \n*************
 ********\n\n\n\n\n\n\n\n\n\n\n\n\nÂ \nNote:Â  This group has been meet
 ing over two years and has some very good topics and speakers.Â  Their
  events are posted at Meetup.com; check them out; bring a friend.\n Â 
 **********************\nÂ Note Las Brisas web site:\nÂ \nhttp://www.la
 sbrisascolorado.com/\nÂ \nmap:\nhttp://mapq.st/1ce8EiK\nÂ \nÂ \n\nFor 
 more information visit http://arapahoeteaparty.ning.com/events/colorad
 o-conservatives-meeting-craig-silverman
DTSTART:20140327T003000Z
DTEND:20140327T030000Z
CATEGORIES:meeting
LOCATION:Las Brisas
WEBSITE:http://mapq.st/1ce8EiK
URL:http://mapq.st/1ce8EiK
CONTACT:Please RSVP to nancydoty@comcast.net
ORGANIZER:Nancy Doty [posted by W. Branstetter]
ATTACH;FMTTYPE="image/jpeg":
ATTENDEE;ROLE=REQ-PARTICIPANT;PARTSTAT=ACCEPTED;RSVP=TRUE;CN="W. Brans
 tetter":http://arapahoeteaparty.ning.com/profile/WBranstetter
END:VEVENT
END:VCALENDAR
