BEGIN:VCALENDAR
PRODID:NingEventWidget-v1
VERSION:2.0
METHOD:PUBLISH
BEGIN:VEVENT
UID:3186561:Event:49697
DTSTAMP:20210313T172952Z
SUMMARY:Colorado Conservatives Meeting:  Coffman and Waller
DESCRIPTION:Nancy Doty writes:  \"Please join us on Wednesday, April 
 23rd at 6:30 p.m. to hear from our 2 Republican Candidates (Coffman 
 and Waller) for Colorado Attorney General (AG).  This extremely impo
 rtant office is responsible for defending our laws and constitution. 
  The winner of the June 24th Primary Election will go on to face th
 e Democratic candidate in the November General Election.\" \nCynthia 
 Coffman http://www.cynthiacoffmanforag.com/\n \nMark Waller http://
 wallerforcolorado.com/\n \nCome prepared with your questions for two
  very qualified candidates.  Your vote is very important!\n\n \nPLE
 ASE NOTE:  OUR MEETING LOCATION IS NOW AT LAS BRISAS\n \nALSO, rath
 er than ordering from the menu, there will be an optional taco bar buf
 fet for $10 per person.  This includes dessert and soda/coffee.  Alc
 oholic drinks will be a separate cash bar.\n \nEveryone is welcome, s
 o please invite family and friends.\n \nPlease RSVP by noon on Monda
 y, March 24 so that the restaurant can adequately plan for service fo
 r our group. Please e-mail Nancy Doty (address below) if you plan t
 o attend so that arrangements for the room and staff can be made.  
   nancydoty@comcast.net \n  \nWhen:  Wednesday, April 23, 2014,
  6:30 p.m.\nWhere (new location):\nLas Brisas\n6787 S. Clinton Street,
  Greenwood Village, CO\nJust east of I-25 and Arapahoe Road\n \nPleas
 e invite your friends and family.  All are welcome!  \n \nPlease RS
 VP to nancydoty@comcast.net\n***************\n\n\n\n\n\n\n\n\n\n\n\n\n
 Note Las Brisas web site:\nhttp://www.lasbrisascolorado.com/\nmap:\nht
 tp://mapq.st/1ce8EiK\n \n\nFor more information visit http://arapahoe
 teaparty.ning.com/events/colorado-conservatives-meeting-coffman-and-wa
 ller
DTSTART:20140424T003000Z
DTEND:20140424T030000Z
CATEGORIES:meeting
LOCATION:Las Brisas
WEBSITE:http://mapq.st/1ce8EiK
URL:http://mapq.st/1ce8EiK
CONTACT:Please RSVP to nancydoty@comcast.net
ORGANIZER:Nancy Doty [posted by W. Branstetter]
ATTACH;FMTTYPE="image/jpeg":
ATTENDEE;ROLE=REQ-PARTICIPANT;PARTSTAT=ACCEPTED;RSVP=TRUE;CN="W. Brans
 tetter":http://arapahoeteaparty.ning.com/profile/WBranstetter
END:VEVENT
END:VCALENDAR
