BEGIN:VCALENDAR
PRODID:NingEventWidget-v1
VERSION:2.0
METHOD:PUBLISH
BEGIN:VEVENT
UID:3186561:Event:60488
DTSTAMP:20210313T170941Z
SUMMARY:Colorado Conservatives Meeting:  Chuck Bonniwell speaking (Ple
 ase RSVP to Nancy Doty)
DESCRIPTION:Must RSVP to Nancy Doty to be seated!\nWhen: Wednesday, Ma
 y 24, 2017 at 6:30 p.m. \nWhere:  Las Brisas\n            678
 7 South Clinton Street\n            Greenwood Village, CO 80112\
 n     Just east of I-25 & Arapahoe Rd, across from Target\nNancy wr
 ites: Please join us to hear Chuck Bonniwell, attorney, publisher of 
 Glendale Cherry Creek Chronicle, co-host with Julie Hayden of Weeken
 d Wake Up show on KNUS 710 am Saturdays 6-9 a.m.  Mr. Bonniwell i
 s author of History of the Denver Country Club. \n\nTopic is “How 
 we unite the Republican Party in 2018,” what will primaries look l
 ike after last year’s ballot initiatives and what effect the Trump 
 Presidency have on our Colorado elections next year. \n \nPlease co
 me with your questions. \n [No meeting in June and July.]\n\n \nPle
 ase Note: There is a $12 cover charge which includes a taco bar buff
 et, soft drink, dessert and the cost of the meeting room. Alcoholic dr
 inks can be purchased at a separate cash bar.\n \nAlso, if you RSVP a
 nd then do not attend, you will be required to cover the cost of your 
 meal as the restaurant has incurred the expense and requires payment f
 or the meal.\n \n\n\nEvents are very well attended and seating is lim
 ited.\nRSVPs are required by Monday, May 22 noon to nancydoty@comcast
 .net\n  \n\nArrive early (6:00 p.m.) for a good seat.\nEveryone is w
 elcome, so please invite family and friends.\n \n\n***************\n\
 n\n\n\n\n\n\n\n\n\n\n\nNote Las Brisas web site:\nhttp://www.lasbrisas
 colorado.com/\nmap:\nhttp://mapq.st/1ce8EiK\n \n\nFor more informatio
 n visit http://arapahoeteaparty.ning.com/events/colorado-conservatives
 -meeting-chuck-bonniwell-speaking-please-rs
DTSTART:20170525T003000Z
DTEND:20170525T030000Z
CATEGORIES:meeting
LOCATION:Las Brisas
WEBSITE:http://mapq.st/1ce8EiK
URL:http://mapq.st/1ce8EiK
CONTACT:Please RSVP to nancydoty@comcast.net by May 22
ORGANIZER:Nancy Doty [posted by W. Branstetter]
ATTACH;FMTTYPE="image/jpeg":
ATTENDEE;ROLE=REQ-PARTICIPANT;PARTSTAT=ACCEPTED;RSVP=TRUE;CN="W. Brans
 tetter":http://arapahoeteaparty.ning.com/profile/WBranstetter
END:VEVENT
END:VCALENDAR
