BEGIN:VCALENDAR
PRODID:NingEventWidget-v1
VERSION:2.0
METHOD:PUBLISH
BEGIN:VEVENT
UID:3186561:Event:57570
DTSTAMP:20210313T172310Z
SUMMARY:Colorado Conservatives Meeting:  \"Amendment 69\" (aka \"Color
 ado Care\") (Please RSVP to Nancy Doty)
DESCRIPTION:When: Wednesday, April 27, 2016 at 6:30 p.m.\nWhere:  La
 s Brisas\n            6787 South Clinton Street\n          
   Greenwood Village, CO 80112\n     Just east of I-25 and Arapahoe
  Road, across from Target\nSince we didn’t have a meeting in March d
 ue to very bad weather, I hope you’ll make every effort to attend ou
 r meetup on Wednesday, April 27th   featuring discussion on Amend
 ment 69.   Our guest speaker is Kelly Sloan who is a Colorado base
 d government relations and public affairs consultant, journalist, colu
 mnist, and Centennial Institute policy fellow. He moved to Colorado fr
 om Alberta, Canada in 2006 and is a veteran of the Canadian Armed Forc
 es and has a degree in criminology. Mr. Sloan will be discussing Amen
 dment 69 known as “Colorado Care” by proponents. This amendment
  will be on our November ballot, and if it passes it will result in a
 $25 billion tax increase and Colorado would immediately have the hig
 hest state income tax at 14.63% in the entire country.\n \nPlease Not
 e: There is a $12 cover charge which includes a taco bar buffet, sof
 t drink, dessert and the cost of the meeting room. Alcoholic drinks ca
 n be purchased at a separate cash bar.\n \nEveryone is welcome, so pl
 ease invite family and friends.\n \nAlso, if you RSVP and then do not
  attend, you will be required to cover the cost of your meal as the re
 staurant has incurred the expense and requires payment for the meal.\n
  \n\n\nEvents are very well attended and seating is limited.\nRSVPs a
 re required by Monday, April 25 noon to nancydoty@comcast.net\n  \n
 \nArrive early (6:00 p.m.) for a good seat.\n \n\n***************\n\n
 \n\n\n\n\n\n\n\n\n\n\nNote Las Brisas web site:\nhttp://www.lasbrisasc
 olorado.com/\nmap:\nhttp://mapq.st/1ce8EiK\n \n\nFor more information
  visit http://arapahoeteaparty.ning.com/events/colorado-conservatives-
 meeting-amendment-69-aka-colorado-care-ple
DTSTART:20160428T003000Z
DTEND:20160428T030000Z
CATEGORIES:meeting
LOCATION:Las Brisas
WEBSITE:http://mapq.st/1ce8EiK
URL:http://mapq.st/1ce8EiK
CONTACT:Please RSVP to nancydoty@comcast.net
ORGANIZER:Nancy Doty [posted by W. Branstetter]
ATTACH;FMTTYPE="image/jpeg":
ATTENDEE;ROLE=REQ-PARTICIPANT;PARTSTAT=ACCEPTED;RSVP=TRUE;CN="W. Brans
 tetter":http://arapahoeteaparty.ning.com/profile/WBranstetter
END:VEVENT
END:VCALENDAR
