BEGIN:VCALENDAR
PRODID:NingEventWidget-v1
VERSION:2.0
METHOD:PUBLISH
BEGIN:VEVENT
UID:3186561:Event:47434
DTSTAMP:20210313T171814Z
SUMMARY:Colorado Conservatives Meeting:  Amendment 66--$1 Billion Tax 
 Increase
DESCRIPTION:Please join us for a very important discussion about Amend
 ment 66 which will be on the November ballot this year! Special inter
 est groups hope to pass the largest tax increase in our state's histor
 y under the guise of education reform and would raise state income ta
 x rates for everyone.  It represents a 27% state income tax increase 
 on those making more than $75,000 per year, and an 8% increase on thos
 e making $75,000 or less. The proposed rate for incomes up to $75,000
  gives Colorado one of the five highest income tax base rates in the n
 ation! \nKen Clark, Co-host of Grassroots Radio Colorado, on 560 AM T
 alk Radio KLZ will present the facts about how this amendment will aff
 ect Colorado, our schools and our pocket books.  He has studied the i
 ssue and wants to help spread the word about the facts and myths rega
 rding how this amendment will/will not benefit our kids.  Proponents 
 of the amendment are prepared to spend millions of dollars to see th
 is issue passed by the voters. \nEveryone is welcome, so please invit
 e family and friends to learn about this issue.  There is no room cha
 rge, but attendees are urged to purchase a food or drink item to help 
 defray the cost to the restaurant.\nPlease rsvp by noon on Monday, Se
 pt. 23rd so that the restaurant can adequately plan for service for ou
 r group.\n \n Please e-mail Nancy Doty (address below) if you plan
  to attend so that arrangements for the room and staff can be made. 
   \n \nEveryone is welcome, so please invite family and friends to 
 hear about these important issues.  Also, there is no room charge, bu
 t attendees are urged to purchase a food or drink item to help defray 
 the cost to the restaurant.\"\n \nWhen:  Wednesday, September 25, 2
 013, 6:30 p.m.\n \nWhere:\nGarcia's Mexican Restaurant\n5050 S. Syrac
 use Street,\nDenver, CO 80237\nJust off I-25 and Belleview\n  \nPlea
 se invite your friends and family.  All are welcome!  Please RSVP to
  Nancy Doty so that some idea is available for the size of the room an
 d if additional staff will be needed for dinner orders.\n \nPlease RS
 VP to nancydoty@comcast.net\n \nNOTE:  Garcia's is located just off 
 I-25 and Belleview.  We will have our own room and waiter.  While th
 ere is no cover charge for our group, please do plan to order somethin
 g to eat and drink as the group must order at least $250 worth of food
 /beverage for us to continue to meet there.\n*********************\n\n
 \n\n\n\n\n\n\n\n\n\n\n \nNote:  This group has been meeting about tw
 o years and has some very good topics and speakers.  Their events are
  posted at Meetup.com; check them out; bring a friend.\n *************
 *********\n \n \n \n\nFor more information visit http://arapahoetea
 party.ning.com/events/colorado-conservatives-meeting-amendment-66-1-bi
 llion-tax-increas
DTSTART:20130926T003000Z
DTEND:20130926T033000Z
CATEGORIES:meeting
LOCATION:Garcia's Mexican Restaurant
WEBSITE:http://www.meetup.com/Conservative-Adult-Singles/events/
URL:http://www.meetup.com/Conservative-Adult-Singles/events/
CONTACT:Please RSVP to nancydoty@comcast.net
ORGANIZER:Nancy Doty [posted by W. Branstetter]
ATTACH;FMTTYPE="image/jpeg":
ATTENDEE;ROLE=REQ-PARTICIPANT;PARTSTAT=ACCEPTED;RSVP=TRUE;CN="W. Brans
 tetter":http://arapahoeteaparty.ning.com/profile/WBranstetter
END:VEVENT
END:VCALENDAR
