BEGIN:VCALENDAR
PRODID:NingEventWidget-v1
VERSION:2.0
METHOD:PUBLISH
BEGIN:VEVENT
UID:3186561:Event:38213
DTSTAMP:20210313T172226Z
SUMMARY:NO MEETING:  Colorado Conservative Singles 50+ Meeting
DESCRIPTION:Nancy Doty has sent this reminder about this group's decis
 ion about meetings: \n \n\"Due to busy summer schedules, we will not
  be meeting in July.  Enjoy your summer and get ready for a very hect
 ic and important Fall which will be filled with important events for a
 ll of us.  We must all work to get our country back on track...I'll b
 e in touch.\"\n \n***************************\nTypically this group m
 eets the 4th Wednesday each month at Garcia's at 6:30 p.m.\n\nSpeakers
  at recent meetings:\n\nMay -- Dr. Jill Q. Vecchio spoke about the ma
 jor problems with the PPACA (aka \"Obamacare\")\n\nJune -- Joe Bagi, C
 haper Leader for Act for America discussing \"Radical Islam in the US\
 "\n.\n  \nNote:  Garcia's is located just off I-25 and Belleview.  
 We will have our own room and waiter.  While there is no cover charge
  for our group, please do plan to order something to eat and drink as 
 the group must order at least $250 worth of food/beverage for us to co
 ntinue to meet there.\n\nContact for information and future events na
 ncydoty@comcast.net\n \n \n****************************\nNote:  Thi
 s group has been meeting nearly two years.  Their events are posted
  at Meetup.com; check them out; bring a friend.\n \n \n\nFor more in
 formation visit http://arapahoeteaparty.ning.com/events/colorado-conse
 rvative-singles-50-meeting
DTSTART:20120726T003000Z
DTEND:20120726T030000Z
CATEGORIES:meeting
LOCATION:Not on July 25 [at Garcia's Mexican Restaurant]
WEBSITE:http://www.meetup.com/Conservative-Adult-Singles/events/608634
 72/?a=ea1_grp&rv=ea1
URL:http://www.meetup.com/Conservative-Adult-Singles/events/60863472/?
 a=ea1_grp&rv=ea1
CONTACT:
ORGANIZER:Nancy Doty [posted by W. Branstetter]
ATTACH;FMTTYPE="image/jpeg":
END:VEVENT
END:VCALENDAR
