BEGIN:VCALENDAR
PRODID:NingEventWidget-v1
VERSION:2.0
METHOD:PUBLISH
BEGIN:VEVENT
UID:3186561:Event:40580
DTSTAMP:20210313T172241Z
SUMMARY:Colorado Conservative Singles 50+ Meeting:  State Senator Mark
  Scheffel
DESCRIPTION:Subject:  State Senator and assistant minority leader, Ma
 rk Scheffel, will speak on the latest effort in keeping the Republican
  majority in the State House and what is being done to increase the nu
 mber of seats held in the State Senate.  What are the targeted races 
 in the State?  Come and hear the latest polling numbers for State rac
 es and how this election will affect you and the future of our State.\
 n\nWhen:  Wednesday, October 24, 2012, 6:30 p.m.\n \nWhere: \nGarci
 a's Mexican Restaurant\n5050 S. Syracuse Street,\nDenver, CO 80237\nJu
 st off I-25 and Belleview\n\nPlease join us to hear from Senator Mark 
 Scheffel.\n\nPlease invite your friends and family.  All are welcome!
 \n\nNOTE:  Garcia's is located just off I-25 and Belleview.  We will
  have our own room and waiter.  While there is no cover charge for ou
 r group, please do plan to order something to eat and drink as the gro
 up must order at least $250 worth of food/beverage for us to continue 
 to meet there. \n\nPlease RSVP to nancydoty@comcast.net\n \n \n\n\n
 \n\n\n\n\n\n\n\n\n\n****************************\n\nNote:  This group
  has been meeting for a couple of years.  Their events are posted at 
 Meetup.com; check them out; bring a friend.\n \n \nPlease RSVP direc
 tly to Nancy Doty coordinating for the Conservatives Singles 50+\n\n\n
 For more information visit http://arapahoeteaparty.ning.com/events/col
 orado-conservative-singles-50-meeting-state-senator-mark-schef
DTSTART:20121025T003000Z
DTEND:20121025T030000Z
CATEGORIES:meeting
LOCATION:Garcia's Mexican Restaurant
WEBSITE:http://www.meetup.com/Conservative-Adult-Singles/events/608634
 72/?a=ea1_grp&rv=ea1
URL:http://www.meetup.com/Conservative-Adult-Singles/events/60863472/?
 a=ea1_grp&rv=ea1
CONTACT:
ORGANIZER:Nancy Doty [posted by W. Branstetter]
ATTACH;FMTTYPE="image/jpeg":
ATTENDEE;ROLE=REQ-PARTICIPANT;PARTSTAT=TENTATIVE;RSVP=TRUE;CN="W. Bran
 stetter":http://arapahoeteaparty.ning.com/profile/WBranstetter
END:VEVENT
END:VCALENDAR
