BEGIN:VCALENDAR
PRODID:NingEventWidget-v1
VERSION:2.0
METHOD:PUBLISH
BEGIN:VEVENT
UID:3186561:Event:36605
DTSTAMP:20210313T172333Z
SUMMARY:Colorado Conservative Singles 50+ Meeting:  Speaker Jill Vecch
 io, M.D.
DESCRIPTION:Â \nOn Wednesday,Â May 23th, at 6;30 p.m., Colorado Conser
 vative Singles 50+ will hostÂ Jill Vecchio, M.D.Â  Our guest speaker, 
 has given many talks on Healthcare in Colorado, Wyoming and California
 , and actively works with congressmen and policy-makers in Washington 
 D. C. and Colorado on healthcare reform issues.Â  She became involved 
 with Docs 4 Patient care in November 2009, a physician organization ex
 posing the truth about \"Obamacare\" and working for its repeal and re
 placement with responsible, market-driven solutions.\nÂ \nSince we bel
 ieve the Supreme Court will be ruling on Obamacare next month, this wi
 ll be a great time to learn how this legislation could affect our fina
 nces, health and future.\n.\nPlease invite your friends!\n\nNote:Â  Th
 is is a new location for our group.Â  Garcia's is located just off I-2
 5 and Belleview.Â  We will have our own room and waiter.Â  While there
  is no cover charge for our group, please do plan to order something t
 o eat and drink as the group must order at least $250 worth of food/be
 verage for us to continue to meet there.\n\nPlease rsvp to nancydoty@c
 omcast.net\nÂ \nÂ \n****************************\nNote:Â  This group h
 as been meeting for about a year.Â  Their events are posted at Meetup.
 com; check them out; bring a friend.\nÂ \nIf you are not familiar with
  Dr. Jill Vecchio, there is a 7-part video series (links below)Â that 
 she highlights many of the points with the healthcare law (affectionat
 ely known as \"Obamacare\"):\nÂ \nhttp://www.youtube.com/watch?v=U_O7X
 V3OpmU&feature=results_video&playnext=1&list=PL475B246A571A7F9E\nÂ \nh
 ttp://www.youtube.com/watch?v=H1pjVN1PQ0w&feature=channel&list=UL\nÂ \
 nhttp://www.youtube.com/watch?v=RSZvLJV-LuE&feature=channel&list=UL\nÂ
  \nhttp://www.youtube.com/watch?v=AD8bInqBazI&feature=channel&list=UL\
 nÂ \nhttp://www.youtube.com/watch?v=mroaiJfQuMk&feature=channel&list=U
 L\nÂ \nhttp://www.youtube.com/watch?v=Rpa_JXbg4c0&feature=channel&list
 =UL\nÂ \nhttp://www.youtube.com/watch?v=wDk_GhE9Q1E&feature=channel&li
 st=UL\nÂ \nÂ \nPlease RSVP directly to Nancy Doty coordinating for the
  Conservatives Singles 50+\n\n\nFor more information visit http://arap
 ahoeteaparty.ning.com/events/colorado-conservative-singles-50-meeting-
 speakers-from-colorado
DTSTART:20120524T003000Z
DTEND:20120524T030000Z
CATEGORIES:meeting
LOCATION:Garcia's Mexican Restaurant
WEBSITE:http://www.meetup.com/Conservative-Adult-Singles/events/608634
 72/?a=ea1_grp&rv=ea1
URL:http://www.meetup.com/Conservative-Adult-Singles/events/60863472/?
 a=ea1_grp&rv=ea1
CONTACT:
ORGANIZER:Nancy Doty [posted by W. Branstetter]
ATTACH;FMTTYPE="image/jpeg":
ATTENDEE;ROLE=REQ-PARTICIPANT;PARTSTAT=ACCEPTED;RSVP=TRUE;CN="W. Brans
 tetter":http://arapahoeteaparty.ning.com/profile/WBranstetter
END:VEVENT
END:VCALENDAR
