BEGIN:VCALENDAR
PRODID:NingEventWidget-v1
VERSION:2.0
METHOD:PUBLISH
BEGIN:VEVENT
UID:3186561:Event:35599
DTSTAMP:20210313T173613Z
SUMMARY:Colorado Conservative Singles 50+ Meeting:  Speakers from Colo
 rado Hispanic Republicans
DESCRIPTION: \nOn Wednesday, April 25th, at 6;30 p.m. please join us 
 to hear from the leaders of the Colorado Hispanic Republicans.  We'll
  learn about how the organization got started, what is done to get peo
 ple involved, and what the future looks like for the Presidential race
  regarding the Hispanic vote.  This will be a great way to learn firs
 t hand what all of us can do to get the message out to those voters wh
 o may have voted for Obama last time and may be thinking of an alterna
 tive this year!\nPresenters are:  Martin Mendez, Chairman of the Colo
 rado Hispanic Republicans and previous candidate for Adams County Comm
 issioner, political activist and is a precinct leader in Adams County;
  and Pauline Olvera, Vice Chair of the Denver County Republicans and S
 ecretary on the Board of Directors for the Colorado Hispanic Republica
 ns\nPlease invite your friends!\nNote:  This is a new location for ou
 r group.  Garcia's is located just off I-25 and Belleview.  We will 
 have our own room and waiter.  While there is no cover charge for our
  group, please do plan to order something to eat and drink as the grou
 p must order at least $250 worth of food/beverage for us to continue t
 o meet there.\nPlease rsvp to nancydoty@comcast.net\n \n*************
 ***************\nNote:  This group has been meeting for about a year.
   Their events are posted at Meetup.com; check them out; bring a frie
 nd.\n \n\n\n\nFor more information visit http://arapahoeteaparty.ning
 .com/events/colorado-conservative-singles-50-meeting-speakers-from-col
 orado-h
DTSTART:20120426T003000Z
DTEND:20120426T030000Z
CATEGORIES:meeting
LOCATION:Garcia's Mexican Restaurant
WEBSITE:http://www.meetup.com/Conservative-Adult-Singles/events/608634
 72/?a=ea1_grp&rv=ea1
URL:http://www.meetup.com/Conservative-Adult-Singles/events/60863472/?
 a=ea1_grp&rv=ea1
CONTACT:
ORGANIZER:Nancy Doty [posted by W. Branstetter]
ATTACH;FMTTYPE="image/jpeg":
ATTENDEE;ROLE=REQ-PARTICIPANT;PARTSTAT=ACCEPTED;RSVP=TRUE;CN="Neal K P
 ashman":http://arapahoeteaparty.ning.com/profile/NealKPashman
ATTENDEE;ROLE=REQ-PARTICIPANT;PARTSTAT=ACCEPTED;RSVP=TRUE;CN="W. Brans
 tetter":http://arapahoeteaparty.ning.com/profile/WBranstetter
END:VEVENT
END:VCALENDAR
