BEGIN:VCALENDAR
PRODID:NingEventWidget-v1
VERSION:2.0
METHOD:PUBLISH
BEGIN:VEVENT
UID:3186561:Event:41571
DTSTAMP:20210313T180205Z
SUMMARY:Colorado Conservative Singles 50+ Meeting:  Speaker Prof. Rob 
 Natelson
DESCRIPTION:Subject:   \"The Founders' Vision and the Fiscal Cliff\"
 \n\nWhen:  Wednesday, January 23, 2013, 6:30 p.m.\n \nWhere:\nGarcia
 's Mexican Restaurant\n5050 S. Syracuse Street,\nDenver, CO 80237\nJus
 t off I-25 and Belleview\n \nPlease join us to hear from Professor Ro
 b Natelson will be discussing \"the principles the Founders put into o
 ur Constitution, how those principles played out, or were abandoned, d
 uring the Fiscal Cliff negotiations, and how we can reclaim them going
  forward.\"\n\nRob Natelson is a Senior Fellow in Constitutional Juris
 prudence with the Independence Institute in Denver.  \"He is one of A
 merica's best-known constitutional scholars and was formerly a tenured
  law professor and the top publisher on the University of Montana law 
 faculty.  He has taught Constitutional Law, Constitutional History, A
 dvanced Constitutional Law and the First Amendment.\"\n\nPlease invite
  your friends and family.  All are welcome!  Please RSVP as noted be
 low.\n\nNOTE:  Garcia's is located just off I-25 and Belleview.  We 
 will have our own room and waiter.  While there is no cover charge fo
 r our group, please do plan to order something to eat and drink as the
  group must order at least $250 worth of food/beverage for us to conti
 nue to meet there.\n\nPlease RSVP to nancydoty@comcast.net\n\n\n\n\n\n
 \n\n\n\n\n\n\n\n****************************\n\nNote:  This group has
  been meeting about two years and has some very good topics and speake
 rs.  Their events are posted at Meetup.com; check them out; bring a f
 riend.\n ***************************\nJanuary 2, 2013 -- Hour 1 of Gra
 ssroots Radio Colorado\nhttp://grrc.podomatic.com/entry/2013-01-02T17_
 46_59-08_00\n\nJanuary 2, 2013 -- Hour 2 of Grassroots Radio Colorado\
 nhttp://grrc.podomatic.com/entry/2013-01-02T19_12_45-08_00\n\nRob Nate
 lson was the host on the Amy Oliver Show on 1310 KFKA Greeley for the 
 January 4, 2013, first hour.  The podcast is available at http://www.
 1310kfka.com/ (podcasts).\n\nIndependence Institute--Constitutional S
 tudies:\nhttp://www.i2i.org/constitutionalstudieshome.php\n \n \nPle
 ase RSVP directly to Nancy Doty coordinating for the Conservatives Sin
 gles 50+\nhttp://www.meetup.com/Conservative-Adult-Singles/events/9983
 0402/?a=cr1_grp&rv=cr1&_af_eid=99830402&_af=event\n\n\nFor more inform
 ation visit http://arapahoeteaparty.ning.com/events/colorado-conservat
 ive-singles-50-meeting-speaker-prof-rob-natelso
DTSTART:20130124T013000Z
DTEND:20130124T040000Z
CATEGORIES:meeting
LOCATION:Garcia's Mexican Restaurant
WEBSITE:http://www.meetup.com/Conservative-Adult-Singles/events/608634
 72/?a=ea1_grp&rv=ea1
URL:http://www.meetup.com/Conservative-Adult-Singles/events/60863472/?
 a=ea1_grp&rv=ea1
CONTACT:
ORGANIZER:Nancy Doty [posted by W. Branstetter]
ATTACH;FMTTYPE="image/jpeg":
ATTENDEE;ROLE=REQ-PARTICIPANT;PARTSTAT=ACCEPTED;RSVP=TRUE;CN="W. Brans
 tetter":http://arapahoeteaparty.ning.com/profile/WBranstetter
ATTENDEE;ROLE=REQ-PARTICIPANT;PARTSTAT=ACCEPTED;RSVP=TRUE;CN="Dave Phi
 pps":http://arapahoeteaparty.ning.com/profile/DavePhipps917
END:VEVENT
END:VCALENDAR
