BEGIN:VCALENDAR
PRODID:NingEventWidget-v1
VERSION:2.0
METHOD:PUBLISH
BEGIN:VEVENT
UID:3186561:Event:37898
DTSTAMP:20210313T172059Z
SUMMARY:Colorado Conservative Singles 50+ Meeting:  Speaker Joe Bagi
DESCRIPTION: \nOn Wednesday, May 23th, at 6;30 p.m., Colorado Conser
 vative Singles 50+ will host \"Joe Bagi, Chaper Leader for Act for Am
 erica, will discuss \"Radical Islam in the US\".  This presentation h
 as been done successfully over 100 times.  Folks are eager to hear wh
 at is going on in our country regarding this subject.  Please come an
 d become informed!\" \n.\nPlease invite your friends!\n\nNote:  Garc
 ia's is located just off I-25 and Belleview.  We will have our own ro
 om and waiter.  While there is no cover charge for our group, please 
 do plan to order something to eat and drink as the group must order at
  least $250 worth of food/beverage for us to continue to meet there.\n
 \nPlease rsvp to nancydoty@comcast.net\n \n \n**********************
 ******\nNote:  This group has been meeting over a year.  Their event
 s are posted at Meetup.com; check them out; bring a friend.\n \n \nP
 lease RSVP directly to Nancy Doty coordinating for the Conservatives S
 ingles 50+\n\n\nFor more information visit http://arapahoeteaparty.nin
 g.com/events/colorado-conservative-singles-50-meeting-speaker-joe-bagi
DTSTART:20120628T003000Z
DTEND:20120628T030000Z
CATEGORIES:meeting
LOCATION:Garcia's Mexican Restaurant
WEBSITE:http://www.meetup.com/Conservative-Adult-Singles/events/608634
 72/?a=ea1_grp&rv=ea1
URL:http://www.meetup.com/Conservative-Adult-Singles/events/60863472/?
 a=ea1_grp&rv=ea1
CONTACT:
ORGANIZER:Nancy Doty [posted by W. Branstetter]
ATTACH;FMTTYPE="image/jpeg":
ATTENDEE;ROLE=REQ-PARTICIPANT;PARTSTAT=ACCEPTED;RSVP=TRUE;CN="Joseph W
 illiam Gabriele":http://arapahoeteaparty.ning.com/profile/JosephWillia
 mGabriele
ATTENDEE;ROLE=REQ-PARTICIPANT;PARTSTAT=ACCEPTED;RSVP=TRUE;CN="W. Brans
 tetter":http://arapahoeteaparty.ning.com/profile/WBranstetter
ATTENDEE;ROLE=REQ-PARTICIPANT;PARTSTAT=TENTATIVE;RSVP=TRUE;CN="Linda H
 art":http://arapahoeteaparty.ning.com/profile/LindaHart
END:VEVENT
END:VCALENDAR
