BEGIN:VCALENDAR
PRODID:NingEventWidget-v1
VERSION:2.0
METHOD:PUBLISH
BEGIN:VEVENT
UID:3186561:Event:40093
DTSTAMP:20210313T180201Z
SUMMARY:Colorado Conservative Singles 50+ Meeting:  Speaker Father And
 rew Kemberling
DESCRIPTION:Subject:Â  Meetup to Hear about Religious Freedoms and the
  latest on the Political Climate\n\nWhen:Â  Wednesday, Sept. 26, 2012,
  6:30 p.m.\nÂ \nWhere:Â \nGarcia's Mexican Restaurant\n5050 S. Syracus
 e Street,\nDenver, CO 80237\nJust off I-25 and Belleview\n\nPlease joi
 n us to hear from Father Andrew Kemberling, Pastor of St. Thomas More,
  as he will be discussing the Obama Health Care Plan and how it affect
 s our religious liberty.Â  Father Andrew gave the invocation at the Re
 publican State Convention last spring and received a standing ovation!
 Â  Also, former Congressman Bob Beauprez will speak about the State's 
 political climate.Â  Can Romney win Colorado?Â  How can we help?\n\nPl
 ease invite your friends and family.Â  All are welcome!\n\nNOTE:Â  Gar
 cia's is located just off I-25 and Belleview.Â  We will have our own r
 oom and waiter.Â  While there is no cover charge for our group, please
  do plan to order something to eat and drink as the group must order a
 t least $250 worth of food/beverage for us to continue to meet there.Â
  \n\nPlease RSVP to nancydoty@comcast.net\nÂ \nFather Kemberling's inv
 ocation referenced above:\nhttp://www.youtube.com/watch?v=6HLZPbQIK-c\
 nÂ \n\n\n\n\n\n\n\n\n\n\n\n\n****************************\n\nNote:Â  T
 his group has been meeting over a year.Â  Their events are posted at M
 eetup.com; check them out; bring a friend.\nÂ \nÂ \nPlease RSVP direct
 ly to Nancy Doty coordinating for the Conservatives Singles 50+\n\n\nF
 or more information visit http://arapahoeteaparty.ning.com/events/colo
 rado-conservative-singles-50-meeting-speaker-father-andrew-ke
DTSTART:20120927T003000Z
DTEND:20120927T030000Z
CATEGORIES:meeting
LOCATION:Garcia's Mexican Restaurant
WEBSITE:http://www.meetup.com/Conservative-Adult-Singles/events/608634
 72/?a=ea1_grp&rv=ea1
URL:http://www.meetup.com/Conservative-Adult-Singles/events/60863472/?
 a=ea1_grp&rv=ea1
CONTACT:
ORGANIZER:Nancy Doty [posted by W. Branstetter]
ATTACH;FMTTYPE="image/jpeg":
ATTENDEE;ROLE=REQ-PARTICIPANT;PARTSTAT=ACCEPTED;RSVP=TRUE;CN="W. Brans
 tetter":http://arapahoeteaparty.ning.com/profile/WBranstetter
END:VEVENT
END:VCALENDAR
