BEGIN:VCALENDAR
PRODID:NingEventWidget-v1
VERSION:2.0
METHOD:PUBLISH
BEGIN:VEVENT
UID:3186561:Event:42228
DTSTAMP:20210313T171809Z
SUMMARY:Colorado Conservative Singles 50+ Meeting:  Fred Fleming with 
 Broncos
DESCRIPTION:\n \n\"We're going to take a break from the political sce
 ne this month and hear from Fred Fleming, Director of Special Services
  for the Denver Broncos.  He will discuss the back office happenings 
 that occur with our favorite team and the personalities of the coaches
  and players.  Fred will answer all the tough questions (like why did
  Peyton take a knee when there were still 30 seconds on the clock!), p
 lans for next year, and also give us insight as to his political views
  (if asked!)\n\nMr. Fleming started his career with the Canadian Footb
 all League before joining the Broncos nearly 30 years ago.  he is spe
 cial assistant to Peyton Manning and formerly to John Elway.  You've 
 probably seen him wave a white towel on the sidelines to rev up the fa
 ns!  Fred will be bringing a Bronco souvenir door prize...so plan to 
 come, enjoy an entertaining and informative evening with a chance to w
 in a Bronco item.\n \nPlease invite your friends.\"\n\nWhen:  Wednes
 day, February 27, 2013, 6:30 p.m.\n \nWhere:\nGarcia's Mexican Restau
 rant\n5050 S. Syracuse Street,\nDenver, CO 80237\nJust off I-25 and Be
 lleview\n  \nPlease invite your friends and family.  All are welcom
 e!  Please RSVP to Nancy Doty so that some idea is available for the 
 size of the room and if additional staff will be needed for dinner ord
 ers.\n \nPlease RSVP to nancydoty@comcast.net\n \nNOTE:  Garcia's i
 s located just off I-25 and Belleview.  We will have our own room and
  waiter.  While there is no cover charge for our group, please do pla
 n to order something to eat and drink as the group must order at least
  $250 worth of food/beverage for us to continue to meet there.\n \n\n
 \n\n\n\n\n\n\n\n\n\n\n****************************\nNote:  This group
  has been meeting about two years and has some very good topics and sp
 eakers.  Their events are posted at Meetup.com; check them out; bring
  a friend.\n \nPlease RSVP directly to Nancy Doty coordinating for th
 e Conservatives Singles 50+\n\nhttp://www.meetup.com//Conservative-Adu
 lt-Singles/events/calendar/\n \n\nFor more information visit http://a
 rapahoeteaparty.ning.com/events/colorado-conservative-singles-50-meeti
 ng-fred-fleming-with-bronco
DTSTART:20130228T013000Z
DTEND:20130228T040000Z
CATEGORIES:meeting
LOCATION:Garcia's Mexican Restaurant
WEBSITE:http://www.meetup.com/Conservative-Adult-Singles/events/
URL:http://www.meetup.com/Conservative-Adult-Singles/events/
CONTACT:Please RSVP to nancydoty@comcast.net
ORGANIZER:Nancy Doty [posted by W. Branstetter]
ATTACH;FMTTYPE="image/jpeg":
END:VEVENT
END:VCALENDAR
