BEGIN:VCALENDAR
PRODID:NingEventWidget-v1
VERSION:2.0
METHOD:PUBLISH
BEGIN:VEVENT
UID:3186561:Event:40726
DTSTAMP:20210313T181449Z
SUMMARY:Colorado Conservative Singles 50+ Meeting:  Donetta Davidson o
 n the election
DESCRIPTION:Subject:  Meetup to hear about the presidential election 
 in Colorado\n\nWhen:  Wednesday, November 28, 2012, 6:30 p.m.\n \nWh
 ere: \nGarcia's Mexican Restaurant\n5050 S. Syracuse Street,\nDenver,
  CO 80237\nJust off I-25 and Belleview\n\n\"Donetta Davidson, former C
 olorado Secretary of State and current Executive Director for the Colo
 rado County Clerks' Association will discuss the Presidential Election
  in Colorado.  Donetta will talk about voter fraud, voter privacy, an
 d what happened at the polls in Colorado on Election Day.  Ms. Davids
 on, former Commissioner on the Federal Election Assistance Commission 
 and former Clerk and Recorder for two Colorado counties, is an expert 
 on elections and will address concerns regarding the integrity of our 
 elections.  Please bring your questions and learn the ins and outs of
  Colorado Elections.\"\n \nPlease invite your friends and family.  A
 ll are welcome!\n \nNOTE:  Garcia's is located just off I-25 and Bel
 leview.  We will have our own room and waiter.  While there is no co
 ver charge for our group, please do plan to order something to eat and
  drink as the group must order at least $250 worth of food/beverage fo
 r us to continue to meet there. \n\nPlease RSVP to nancydoty@comcast.
 net\n \n \n\n\n\n\n\n\n\n\n\n\n\n\n****************************\n\nN
 ote:  This group has been meeting for a couple of years.  Their even
 ts are posted at Meetup.com; check them out; bring a friend.\n \n \n
 Please RSVP directly to Nancy Doty coordinating for the Conservatives 
 Singles 50+\n\n\nFor more information visit http://arapahoeteaparty.ni
 ng.com/events/colorado-conservative-singles-50-meeting-donetta-davidso
 n-on-the-
DTSTART:20121129T013000Z
DTEND:20121129T040000Z
CATEGORIES:meeting
LOCATION:Garcia's Mexican Restaurant
WEBSITE:http://www.meetup.com/Conservative-Adult-Singles/events/608634
 72/?a=ea1_grp&rv=ea1
URL:http://www.meetup.com/Conservative-Adult-Singles/events/60863472/?
 a=ea1_grp&rv=ea1
CONTACT:RSVP to nancydoty@comcast.net
ORGANIZER:Nancy Doty [posted by W. Branstetter]
ATTACH;FMTTYPE="image/jpeg":
ATTENDEE;ROLE=REQ-PARTICIPANT;PARTSTAT=ACCEPTED;RSVP=TRUE;CN="Neal K P
 ashman":http://arapahoeteaparty.ning.com/profile/NealKPashman
ATTENDEE;ROLE=REQ-PARTICIPANT;PARTSTAT=ACCEPTED;RSVP=TRUE;CN="W. Brans
 tetter":http://arapahoeteaparty.ning.com/profile/WBranstetter
END:VEVENT
END:VCALENDAR
