BEGIN:VCALENDAR
PRODID:NingEventWidget-v1
VERSION:2.0
METHOD:PUBLISH
BEGIN:VEVENT
UID:3186561:Event:44465
DTSTAMP:20210313T171747Z
SUMMARY:Colorado Conservative Singles 50+ Meeting:  Derrick Wilburn (R
 ocky Mountain Black Conservatives)
DESCRIPTION:Nancy Doty writes:\n \n\"Please join us on Wednesday, Mar
 ch 27th, 6:30 p.m. to hear from the Founder, President and Chairman of
  the Board of the Rocky Mountain Black Tea Party and the Rocky Mountai
 n Black Conservatives, Derrick Wilburn.  Derrick is the driving force
  behind a movement that is sweeping across Colorado and the Rocky Moun
 tain states, and hopefully soon across the entire nation.  Derrick de
 livers a powerful message that combines history, humor, statistics and
  most importantly, plans of action to political and community action g
 roups about what conservatives need to do in bringing back the values 
 to our country that we cherish.  This will be a dynamic meeting.  Pl
 ease bring your family and friends.  All are welcome.\"\n \nWhen:  
 Wednesday, March 27, 2013, 6:30 p.m.\n \nWhere:\nGarcia's Mexican Res
 taurant\n5050 S. Syracuse Street,\nDenver, CO 80237\nJust off I-25 and
  Belleview\n  \nPlease invite your friends and family.  All are wel
 come!  Please RSVP to Nancy Doty so that some idea is available for t
 he size of the room and if additional staff will be needed for dinner 
 orders.\n \nPlease RSVP to nancydoty@comcast.net\n \nNOTE:  Garcia'
 s is located just off I-25 and Belleview.  We will have our own room 
 and waiter.  While there is no cover charge for our group, please do 
 plan to order something to eat and drink as the group must order at le
 ast $250 worth of food/beverage for us to continue to meet there.\n  
 \n\n\n\n\n\n\n\n\n\n\n\n\n****************************\nIf you have no
 t heard Derrick Wilburn speak, you really must bring a friend or neigh
 bor and hear what he has in mind that we can help with.\n\nNote:  Thi
 s group has been meeting about two years and has some very good topics
  and speakers.  Their events are posted at Meetup.com; check them out
 ; bring a friend.\n  \nPlease RSVP directly to Nancy Doty coordinatin
 g for the Conservatives Singles 50+\n\nhttp://www.meetup.com//Conserva
 tive-Adult-Singles/events/calendar/\n \n\nFor more information visit 
 http://arapahoeteaparty.ning.com/events/colorado-conservative-singles-
 50-meeting-derrick-wilburn-rocky-mo
DTSTART:20130328T003000Z
DTEND:20130328T030000Z
CATEGORIES:meeting
LOCATION:Garcia's Mexican Restaurant
WEBSITE:http://www.meetup.com/Conservative-Adult-Singles/events/
URL:http://www.meetup.com/Conservative-Adult-Singles/events/
CONTACT:Please RSVP to nancydoty@comcast.net
ORGANIZER:Nancy Doty [posted by W. Branstetter]
ATTACH;FMTTYPE="image/jpeg":
ATTENDEE;ROLE=REQ-PARTICIPANT;PARTSTAT=ACCEPTED;RSVP=TRUE;CN="W. Brans
 tetter":http://arapahoeteaparty.ning.com/profile/WBranstetter
END:VEVENT
END:VCALENDAR
