BEGIN:VCALENDAR
PRODID:NingEventWidget-v1
VERSION:2.0
METHOD:PUBLISH
BEGIN:VEVENT
UID:3186561:Event:3267
DTSTAMP:20210313T173844Z
SUMMARY:Clear the Bench
DESCRIPTION:Denver-Front Range 9/12 is sponsoring an event on Septembe
 r 30th featuring Matt Arnold, Director of Clear the Bench Colorado. Ma
 tt will be speaking on the abuse of our state constitution by the very
  Supreme Court justices sworn to uphold it.\n\nClear The Bench Colorad
 o is a grassroots movement to hold Colorado’s Supreme Court justices
  accountable to the Colorado Constitution and to the people of Colorad
 o.\n\nhttp://www.clearthebe...\n\nFor more information visit http://ar
 apahoeteaparty.ning.com/events/clear-the-bench
DTSTART:20091001T010000Z
DTEND:20091001T030000Z
CATEGORIES:meeting
LOCATION:Phillip S. Miller Library
WEBSITE:
URL:
CONTACT:
ORGANIZER;CN="Chairman's Committee":http://arapahoeteaparty.ning.com/p
 rofile/chairmanscommittee
ATTACH;FMTTYPE="image/jpeg":
ATTENDEE;ROLE=REQ-PARTICIPANT;PARTSTAT=ACCEPTED;RSVP=TRUE;CN="Chairman
 's Committee":http://arapahoeteaparty.ning.com/profile/chairmanscommit
 tee
END:VEVENT
END:VCALENDAR
