BEGIN:VCALENDAR
PRODID:NingEventWidget-v1
VERSION:2.0
METHOD:PUBLISH
BEGIN:VEVENT
UID:3186561:Event:29258
DTSTAMP:20210313T171623Z
SUMMARY:Citizens for Responsible Aurora Government
DESCRIPTION:A local group called Citizens for Responsible Aurora Gover
 nment has been working to be more informed about what is going on with
  the finances and other public issues.  This groups meets the 4th Wed
 nesday of the month at the Doubletree Inn near I-225 and Iliff Avenue.
 \n \nThe group has been doing FOIA (Freedom of Information Act) reque
 sts and making information available.  They have prepared presentatio
 ns for city council meetings using the council's filmed recordings and
  statements for later arguments.\n \nIf you are interested in learnin
 g how to do records requests, messaging, presentations, and be active 
 in Aurora (or other local governance), check this group out.\n \nhttp
 ://cragaurora.com/\n \n \nmap:\nhttp://doubletree1.hilton.com/en_US/
 dt/hotel/DENITDT-DoubleTree-by-Hilton-Hotel-Denver-Aurora-Colorado/dir
 ections.do#localmap\n \n \n*****************************\nAt the Sep
 tember meeting CRAG members decided that the October meeting would be 
 their last until January to avoid scheduling conflicts with the holida
 ys.\n*****************************\n \nIt is time to get active and i
 nvolved somewhere.  There are lots of groups and lots of interests.\n
  \n\nFor more information visit http://arapahoeteaparty.ning.com/even
 ts/citizens-for-responsible-aurora-government
DTSTART:20120126T020000Z
DTEND:20120126T040000Z
CATEGORIES:meeting
LOCATION:Doubletree Inn in Aurora, CO
WEBSITE:http://cragaurora.com/
URL:http://cragaurora.com/
CONTACT:contact CRAG at (720) 295-8402
ORGANIZER:posted by W. Branstetter
ATTACH;FMTTYPE="image/jpeg":
ATTENDEE;ROLE=REQ-PARTICIPANT;PARTSTAT=ACCEPTED;RSVP=TRUE;CN="W. Brans
 tetter":http://arapahoeteaparty.ning.com/profile/WBranstetter
END:VEVENT
END:VCALENDAR
