BEGIN:VCALENDAR
PRODID:NingEventWidget-v1
VERSION:2.0
METHOD:PUBLISH
BEGIN:VEVENT
UID:3186561:Event:2641
DTSTAMP:20210313T172816Z
SUMMARY:Charter Bus to Grand Junction to meet Obama
DESCRIPTION:The Republicans of Douglas County are chartering some buss
 es Grand Junction to meet Obama on Saturday. The pick up is 9:30 am at
  the Highlands Ranch Park and Ride at Dad Clark Drive and University. 
 Bring 35 dollars cash and a sack lunch with water as it will be hot. G
 ood luck\n\nFor more information visit http://arapahoeteaparty.ning.co
 m/events/charter-bus-to-grand-junction
DTSTART:20090815T060000Z
DTEND:20090816T055900Z
CATEGORIES:rally
LOCATION:HR Park and RIde
WEBSITE:
URL:
CONTACT:
ORGANIZER;CN="Fredrick Lindner":http://arapahoeteaparty.ning.com/profi
 le/FredrickDLindner
ATTACH;FMTTYPE="image/jpeg":
ATTENDEE;ROLE=REQ-PARTICIPANT;PARTSTAT=ACCEPTED;RSVP=TRUE;CN="Fredrick
  Lindner":http://arapahoeteaparty.ning.com/profile/FredrickDLindner
END:VEVENT
END:VCALENDAR
