BEGIN:VCALENDAR
PRODID:NingEventWidget-v1
VERSION:2.0
METHOD:PUBLISH
BEGIN:VEVENT
UID:3186561:Event:55621
DTSTAMP:20210313T171947Z
SUMMARY:CHANGE LOCATION for Meeting Arapahoe Tea Party
DESCRIPTION:CHANGE LOCATION for TONIGHT's MEETING to:\n\nInnovations P
 avillion\n9200 East Mineral Avenue\n[across street from the fire house
 ; in main door and turn right]\n\nWith a new year there is much to cov
 er including dates for coming events like precinct caucus in Colorado.
   Note that you must have registered by January 4, 2016, as a Republi
 can or Democratic party member to participate in caucus.\n\nThere is m
 ore to cover for other events and news.  Be sure to attend the Januar
 y meeting to get informed.\n\nAs with all of the meetings, come early 
 for a good seat.\n\nOur meetings attract a crowd, so come early! \n 
 \nTuesday, January 12, 2015 6:30-8:30 pm South Metro Fire Rescue 9195 
 E. Mineral Ave. Centennial, CO 80112\n \nEvent announcement on Facebo
 ok:\n \n\n \n \nIf you would be interested in helping with a commit
 tee or two that might help make meetings and events run smoother, woul
 d you please post a brief comment with this announcement.\n \nIf you 
 are not connected via Facebook, please find the group \"Arapahoe Tea P
 arty\" for news items and events:\nhttps://www.facebook.com/groups/ar
 apahoeteaparty\n \n*************************\n\nNOTE:  Please do not
  contact the building management for information about this event.  T
 he group sponsoring the event has contact information at the link prov
 ided above.\n\n************************\n\nReminder from April 2015 me
 eting of Darryl Glenn, candidate for U.S Senator, currently El Paso Co
 unty Commissioner\n\nhttp://www.electdarrylglenn.com/\n\nhttp://www.cs
 indy.com/IndyBlog/archives/2015/01/15/darryl-glenn-will-run-against-se
 n-bennet\n\nhttp://gazette.com/glenn-early-announcement-for-u.s.-senat
 e-run-shows-he-is-very-serious/article/1544655\n\n\n\nFor more informa
 tion visit http://arapahoeteaparty.ning.com/events/change-location-for
 -meeting-arapahoe-tea-party
DTSTART:20160113T013000Z
DTEND:20160113T033000Z
CATEGORIES:"monthly meeting"
LOCATION:Innovations Pavillion
WEBSITE:https://maps.google.com/maps?oe=utf-8&client=firefox-a&ie=UTF-
 8&q=south+metro+fire+rescue+authority+mineral+headquarters&fb=1&gl=us&
 hq=south+metro+fire+rescue+authority+mineral+headquarters&cid=0,0,9189
 900575761474566&ei=wsvZUfvrHoWQyQHR5oGQCg&ved=0CIcBEPwSMAA
URL:https://maps.google.com/maps?oe=utf-8&client=firefox-a&ie=UTF-8&q=
 south+metro+fire+rescue+authority+mineral+headquarters&fb=1&gl=us&hq=s
 outh+metro+fire+rescue+authority+mineral+headquarters&cid=0,0,91899005
 75761474566&ei=wsvZUfvrHoWQyQHR5oGQCg&ved=0CIcBEPwSMAA
CONTACT:
ORGANIZER:Regina Thomson and Randy Corporon [posted by W. Branstetter]
ATTACH;FMTTYPE="image/jpeg":
ATTENDEE;ROLE=REQ-PARTICIPANT;PARTSTAT=ACCEPTED;RSVP=TRUE;CN="W. Brans
 tetter":http://arapahoeteaparty.ning.com/profile/WBranstetter
END:VEVENT
END:VCALENDAR
