BEGIN:VCALENDAR
PRODID:NingEventWidget-v1
VERSION:2.0
METHOD:PUBLISH
BEGIN:VEVENT
UID:3186561:Event:40708
DTSTAMP:20210313T172033Z
SUMMARY:Centennial Institute:  \"What Next, Conservatives?\" (Lakewood
 , CO)
DESCRIPTION:Centennial Institute presents a program with guest speaker
  Guy P. Benson as well as journalists of the left (Mike Littwin) and 
 right (Ross Kaminsky) for a program at CCU in Lakewood. \n \n\"Admi
 ssion is free and open to the public, but reservations are required. R
 SVP your name and number of attendees to Centennial@ccu.edu or call 30
 3-963-3424.  The Beckman Center is located near the Garrison Street e
 ntrance to Colorado Christian University.\"  [note there is a map lin
 ked within the following link]\n \nhttp://www.ccu.edu/Calendars/CCU_E
 vents_Calendar/What_Next,_Conservatives__(Lakewood)/\n \n \nIf you k
 now of someone in Grand Junction, share the link below for information
  on a similar event there. \n \nhttp://www.ccu.edu/Calendars/CCU_Eve
 nts_Calendar/What_Next,_Conservatives__(Grand_Junction)/\n \n \n\nFo
 r more information visit http://arapahoeteaparty.ning.com/events/cente
 nnial-institute-what-next-conservatives-lakewood-co
DTSTART:20121113T020000Z
DTEND:20121113T040000Z
CATEGORIES:forum, debate
LOCATION:Beckman Center at Colorado Christian University
WEBSITE:http://www.ccu.edu/Calendars/CCU_Events_Calendar/What_Next,_Co
 nservatives__(Lakewood)/
URL:http://www.ccu.edu/Calendars/CCU_Events_Calendar/What_Next,_Conser
 vatives__(Lakewood)/
CONTACT:Call:  303--963-3424
ORGANIZER:posted by W. Branstetter
ATTACH;FMTTYPE="image/jpeg":
ATTENDEE;ROLE=REQ-PARTICIPANT;PARTSTAT=ACCEPTED;RSVP=TRUE;CN="W. Brans
 tetter":http://arapahoeteaparty.ning.com/profile/WBranstetter
END:VEVENT
END:VCALENDAR
