BEGIN:VCALENDAR
PRODID:NingEventWidget-v1
VERSION:2.0
METHOD:PUBLISH
BEGIN:VEVENT
UID:3186561:Event:40978
DTSTAMP:20210313T172024Z
SUMMARY:Centennial Institute:  \"Hot Issues for the Colorado Legislatu
 re\"
DESCRIPTION:Centennial Institute--Issue Monday \n\"Colorado's Golden 
 Dome, no less than the U.S. Capitol in Washington, will be the scene o
 f hot debates and consequential decisions as 2013 begins. Join us for 
 Issue Monday, January 21 at 7:00 p.m. in the CCU Beckman Center, as Ce
 ntennial Institute presents a panel with state House floor leaders Dic
 key Lee Hullinghorst (D) and Mark Waller (R) plus state Senate floor l
 eaders Morgan Carroll (R) and Bill Cadman (R).\"\n  \n\"Admission is
  free and open to the public, but reservations are required. RSVP your
  name and number of attendees to Centennial@ccu.edu or call 303-963-34
 24.  The Beckman Center is located near the Garrison Street entrance 
 to Colorado Christian University.\"  [note there is a map linked with
 in the following link]\n \nhttp://www.ccu.edu/Calendars/CCU_Events_Ca
 lendar/Issue_Monday__Hot_Issues_for_the_Colorado_Legislature/\n \n \
 nPlease remember to RSVP directly to Centennial Institute.\n  \n Remi
 nder:  Early registration for Western Conservative Summit:\n \nhttp:
 //www.westernconservativesummit.com/\n\n\nFor more information visit h
 ttp://arapahoeteaparty.ning.com/events/centennial-institute-losing-our
 -sons-film-screening-1
DTSTART:20130122T020000Z
DTEND:20130122T040000Z
CATEGORIES:forum
LOCATION:Beckman Center at Colorado Christian University
WEBSITE:http://www.ccu.edu/Calendars/CCU_Events_Calendar/Issue_Monday_
 _Hot_Issues_for_the_Colorado_Legislature/
URL:http://www.ccu.edu/Calendars/CCU_Events_Calendar/Issue_Monday__Hot
 _Issues_for_the_Colorado_Legislature/
CONTACT:Call:  303-963-3424
ORGANIZER:posted by W. Branstetter
ATTACH;FMTTYPE="image/jpeg":
ATTENDEE;ROLE=REQ-PARTICIPANT;PARTSTAT=ACCEPTED;RSVP=TRUE;CN="W. Brans
 tetter":http://arapahoeteaparty.ning.com/profile/WBranstetter
END:VEVENT
END:VCALENDAR
