BEGIN:VCALENDAR
PRODID:NingEventWidget-v1
VERSION:2.0
METHOD:PUBLISH
BEGIN:VEVENT
UID:3186561:Event:39771
DTSTAMP:20210313T172005Z
SUMMARY:Centennial Institute--Issue Monday with Hannah Giles
DESCRIPTION:Centennial Institute--Issue Monday\n\n\"As older media org
 anizations lose power, opinion blurs with fact in the information mark
 etplace, and new technologies democratize the way people keep up with 
 politics and government, conservatives have both the opportunity and t
 he imperative to make fullest use of the First Amendment in defending 
 liberty and limited government. In Investigative Journalism and Our Fr
 eedom, Hannah Giles, the college student whose undercover reporting br
 ought down ACORN, tells her story and challenges others to do likewise
  on Monday, September 17, at 7:00 p.m. at the CCU Beckman Center.  An
 other in the Issue Monday series, presented by Centennial Institute an
 d the News21 Project.\n\nAdmission is free and all are welcome, but re
 servations are required. RSVP your name and number of attendees to Cen
 tennial@ccu.edu or call 303-963-3424. The Beckman Center is located ne
 ar the Garrison Street entrance to the Colorado Christian University m
 ain campus in Lakewood.\"\n\nhttp://www.ccu.edu/admissions/events/even
 ts_detail.asp?eventID=776\n\n\n\n\n\nFor more information visit http:/
 /arapahoeteaparty.ning.com/events/centennial-institute-issue-monday-wi
 th-hannah-giles
DTSTART:20120918T010000Z
DTEND:20120918T030000Z
CATEGORIES:"issue monday"
LOCATION:Colorado Christian University, Beckman Center
WEBSITE:http://www.ccu.edu/admissions/events/events_detail.asp?eventID
 =776
URL:http://www.ccu.edu/admissions/events/events_detail.asp?eventID=776
CONTACT:
ORGANIZER:posted by W. Branstetter
ATTACH;FMTTYPE="image/jpeg":
ATTENDEE;ROLE=REQ-PARTICIPANT;PARTSTAT=ACCEPTED;RSVP=TRUE;CN="W. Brans
 tetter":http://arapahoeteaparty.ning.com/profile/WBranstetter
END:VEVENT
END:VCALENDAR
