BEGIN:VCALENDAR
PRODID:NingEventWidget-v1
VERSION:2.0
METHOD:PUBLISH
BEGIN:VEVENT
UID:3186561:Event:44182
DTSTAMP:20210313T172033Z
SUMMARY:Centennial Institute:  \"Debate:  Are People the Problem?\"
DESCRIPTION:Centennial Institute--Issue Monday \n\"Debate:  Are Peop
 le the Problem?\"\n \n\"Philip Cafaro, a professor of philosophy at C
 olorado State University, recently warned in print that immigrants to 
 America will endanger the planet by partaking of our country's carbon-
 based prosperity. Robert Zubrin, an entrepreneur and space scientist, 
 rebutted by insisting that population growth and carbon energy are bot
 h good things. To contend otherwise, he charged, is \"anti-humanity.\"
 \n \nCentennial Institute presents a debate on this clash of visions.
   \"Resolved: To help slow global climate change, the U.S. should red
 uce immigration and stabilize our population, as part of efforts to cu
 t back sharply on greenhouse gas emissions.\" That's the proposition C
 afaro will affirm and Zubrin (pictured) will negate.\n \nThe Issue Mo
 nday debate will take place on Monday, April 15, from 7-8:30 p.m. at t
 he CCU Beckman Center. Admission is free and all are welcome, but rese
 rvations are required. Complete the RSVP form below or call 303-963-34
 24 to reserve your space. The CCU Beckman Center is located at 180 S. 
 Garrison Street, Lakewood CO 80226.\" \n \nPlease remember to RSVP d
 irectly to Centennial Institute via the form at the following link.\n[
 note there is a map linked within the following link]\n \nhttp://www.
 ccu.edu/Calendars/CCU_Events_Calendar/Debate__Are_People_the_Problem_/
 \n \nhttp://www.ccu.edu/centennial/\n  \n Reminder:  Early registr
 ation for Western Conservative Summit:\n \nhttp://www.westernconserva
 tivesummit.com/\n\n\nFor more information visit http://arapahoeteapart
 y.ning.com/events/centennial-institute-debate-are-people-the-problem
DTSTART:20130416T010000Z
DTEND:20130416T030000Z
CATEGORIES:forum
LOCATION:Beckman Center at Colorado Christian University
WEBSITE:http://www.ccu.edu/Calendars/CCU_Events_Calendar/Debate__Are_P
 eople_the_Problem_/
URL:http://www.ccu.edu/Calendars/CCU_Events_Calendar/Debate__Are_Peopl
 e_the_Problem_/
CONTACT:Call:  303-963-3424
ORGANIZER:posted by W. Branstetter
ATTACH;FMTTYPE="image/jpeg":
ATTENDEE;ROLE=REQ-PARTICIPANT;PARTSTAT=TENTATIVE;RSVP=TRUE;CN="W. Bran
 stetter":http://arapahoeteaparty.ning.com/profile/WBranstetter
END:VEVENT
END:VCALENDAR
