BEGIN:VCALENDAR
PRODID:NingEventWidget-v1
VERSION:2.0
METHOD:PUBLISH
BEGIN:VEVENT
UID:3186561:Event:45073
DTSTAMP:20210313T172034Z
SUMMARY:Centennial Institute:  \"Debate:  Are People the Problem?\"
DESCRIPTION:Note this event was rescheduled because of snow; better lu
 ck now?\n \nCentennial Institute--Issue Monday \n\"Debate:  Are Peo
 ple the Problem?\"\n \n\"Philip Cafaro, a professor of philosophy at 
 Colorado State University, recently warned in print that immigrants to
  America will endanger the planet by partaking of our country's carbon
 -based prosperity. Robert Zubrin, an entrepreneur and space scientist,
  rebutted by insisting that population growth and carbon energy are bo
 th good things. To contend otherwise, he charged, is \"anti-humanity.\
 "\n \nCentennial Institute presents a debate on this clash of visions
 .  \"Resolved: To help slow global climate change, the U.S. should re
 duce immigration and stabilize our population, as part of efforts to c
 ut back sharply on greenhouse gas emissions.\" That's the proposition 
 Cafaro will affirm and Zubrin (pictured) will negate.\n \nThe Issue M
 onday debate will take place on Monday, April 15, from 7-8:30 p.m. at 
 the CCU Beckman Center. Admission is free and all are welcome, but res
 ervations are required. Complete the RSVP form below or call 303-963-3
 424 to reserve your space. The CCU Beckman Center is located at 180 S.
  Garrison Street, Lakewood CO 80226.\" \n \nPlease remember to RSVP 
 directly to Centennial Institute via the form at the following link.\n
 [note there is a map linked within the following link]\n\n http://www
 .ccu.edu/Calendars/CCU_Events_Calendar/Debate__Are_People_the_Problem_
 _May_2013/\n \nhttp://www.ccu.edu/centennial/\n  \n Reminder:  Ear
 ly registration for Western Conservative Summit:\n \nhttp://www.weste
 rnconservativesummit.com/\n\n\nFor more information visit http://arapa
 hoeteaparty.ning.com/events/centennial-institute-debate-are-people-the
 -problem-1
DTSTART:20130514T010000Z
DTEND:20130514T030000Z
CATEGORIES:forum
LOCATION:Beckman Center at Colorado Christian University
WEBSITE:http://www.ccu.edu/Calendars/CCU_Events_Calendar/Debate__Are_P
 eople_the_Problem_/
URL:http://www.ccu.edu/Calendars/CCU_Events_Calendar/Debate__Are_Peopl
 e_the_Problem_/
CONTACT:Call:  303-963-3424
ORGANIZER:posted by W. Branstetter
ATTACH;FMTTYPE="image/jpeg":
ATTENDEE;ROLE=REQ-PARTICIPANT;PARTSTAT=TENTATIVE;RSVP=TRUE;CN="W. Bran
 stetter":http://arapahoeteaparty.ning.com/profile/WBranstetter
END:VEVENT
END:VCALENDAR
