BEGIN:VCALENDAR
PRODID:NingEventWidget-v1
VERSION:2.0
METHOD:PUBLISH
BEGIN:VEVENT
UID:3186561:Event:29764
DTSTAMP:20210313T172000Z
SUMMARY:Centennial Institute:  2012 Political Preview
DESCRIPTION:The web page with the event announcement offers several qu
 estions that might be covered for this event.  Scott Gessler (Secreta
 ry of State) and Walker Stapleton (State Treasurer) will be available 
 for the discussion.\n \nThis event is free and RSVPs need to be made
  directly to the Centennial Institute with your name and number attend
 ing at:  Centennial@ccu.edu or call 303-963-3424\n \nhttp://www.ccu.
 edu/admissions/events/events_detail.asp?eventID=716\n \nMap:\nBeckman
  Center can be reached from Garrison Street and then Cedar Street to 
 the east.  Parking in the area can be a challenge so consider carpool
 ing.  Here is the campus map:\n \nhttp://www.ccu.edu/directory/print
 _LW-main.pdf\n \nThese are popular events.\n \n\nFor more informatio
 n visit http://arapahoeteaparty.ning.com/events/centennial-institute-2
 012-political-preview
DTSTART:20111115T020000Z
DTEND:20111115T040000Z
CATEGORIES:"issue monday"
LOCATION:Beckman Center at Colorado Christian University (Room 202/210
 )
WEBSITE:http://www.ccu.edu/admissions/events/events_detail.asp?eventID
 =716
URL:http://www.ccu.edu/admissions/events/events_detail.asp?eventID=716
CONTACT:Centennial@ccu.edu or call 303-963-3424
ORGANIZER:posted by W. Branstetter
ATTACH;FMTTYPE="image/jpeg":
ATTENDEE;ROLE=REQ-PARTICIPANT;PARTSTAT=ACCEPTED;RSVP=TRUE;CN="W. Brans
 tetter":http://arapahoeteaparty.ning.com/profile/WBranstetter
END:VEVENT
END:VCALENDAR
