BEGIN:VCALENDAR
PRODID:NingEventWidget-v1
VERSION:2.0
METHOD:PUBLISH
BEGIN:VEVENT
UID:3186561:Event:47998
DTSTAMP:20210313T173703Z
SUMMARY:Centennial City Council Candidate Forum
DESCRIPTION:Centennial City Council Candidate Forum\n \nLearn more ab
 out the candidates for Centennial Mayor and City Council District 2 at
  this event. Five of the nine positions will be decided this year.\n 
 \nSaturday, October 12  at 2:30 p.m.\nKoelbel Public Library\n5955 S.
  Holly St.\nCentennial, CO 80121\n \nThis event is free and open to t
 he public.  The candidates for mayor are:\n \nMonika Sue Bromley\nCat
 hy A. Noon, the incumbent who is seeking a second four-year term\n \n
 The City Council District 2 candidates running for the position held b
 y Sue Bosier, who is term-limited, are:\n \nTheresa Martens\nDoris Tr
 uhlar\n \nVoters will also choose between Mike Hanbery and Kathleen T
 urley, running to replace District 1 Council Member Rick Dindinger, wh
 o is term limited. Mark Gotto is the only  candidate for term-limited
  District 3 Council Member Rebecca McClellan's position. And voters wi
 ll decide  among John Tate, William Turner, or Charles Whelan III to 
 succeed term-limited District 4 Council Member Ron Weidmann.  More inf
 ormation on the Centennial candidates may be found on the city's web s
 ite here.  Centennial voters will also be asked to approve a city ball
 ot issue on the city's ability to use it existing fiber optic network 
 to provide telecommunication services to city residents and businesses
 . Currently Centennial (and all other local governments in Colorado) i
 s prohibited by state law to partner with private entities to deliver 
 telecommunication services to its constituents. This law remains as is
 , unless Centennial voters  decide to override that law  by voting o
 n a ballot question. Centennial is asking the voters to override the s
 tate law.  Visit the city's web site here for more  information on th
 is ballot issue.  For information, call the City of Centennial's infor
 mation line at 303-325-8000.\n \nhttp://lwvarapahoe.org/Public_Events
 .html\n \n \n \n\nFor more information visit http://arapahoeteapart
 y.ning.com/events/centennial-city-council-candidate-forum
DTSTART:20131012T203000Z
DTEND:20131012T223000Z
CATEGORIES:"candidate forum"
LOCATION:Koelbel Library
WEBSITE:http://lwvarapahoe.org/Public_Events.html
URL:http://lwvarapahoe.org/Public_Events.html
CONTACT:
ORGANIZER:LWV [posted by W. Branstetter]
ATTACH;FMTTYPE="image/jpeg":
ATTENDEE;ROLE=REQ-PARTICIPANT;PARTSTAT=TENTATIVE;RSVP=TRUE;CN="W. Bran
 stetter":http://arapahoeteaparty.ning.com/profile/WBranstetter
END:VEVENT
END:VCALENDAR
