BEGIN:VCALENDAR
PRODID:NingEventWidget-v1
VERSION:2.0
METHOD:PUBLISH
BEGIN:VEVENT
UID:3186561:Event:5269
DTSTAMP:20210313T174331Z
SUMMARY:Candidate's Meeting--Ken Buck
DESCRIPTION:U.S. Senate Candidate Ken Buck will speak on the issues an
 d answer your questions. All are welcome.\n\nFor more information visi
 t http://arapahoeteaparty.ning.com/events/candidates-meetingken-buck
DTSTART:20100710T010000Z
DTEND:20100710T023000Z
CATEGORIES:meeting
LOCATION:Forte Academy of Music
WEBSITE:http://www.forteacademy.com
URL:http://www.forteacademy.com
CONTACT:303-978-9363
ORGANIZER;CN="Mary Reinker":http://arapahoeteaparty.ning.com/profile/M
 aryReinker
ATTACH;FMTTYPE="image/jpeg":
ATTENDEE;ROLE=REQ-PARTICIPANT;PARTSTAT=ACCEPTED;RSVP=TRUE;CN="Mary Rei
 nker":http://arapahoeteaparty.ning.com/profile/MaryReinker
END:VEVENT
END:VCALENDAR
