BEGIN:VCALENDAR
PRODID:NingEventWidget-v1
VERSION:2.0
METHOD:PUBLISH
BEGIN:VEVENT
UID:3186561:Event:5277
DTSTAMP:20210313T173735Z
SUMMARY:Candidate's Meeting--Dan Maes
DESCRIPTION:Dan Maes, Gubernatorial Candidate, will speak on the issue
 s and answer questions. All are welcome.\n\nFor more information visit
  http://arapahoeteaparty.ning.com/events/candidates-meetingdan-maes
DTSTART:20100727T010000Z
DTEND:20100727T020000Z
CATEGORIES:meeting
LOCATION:Forte Academy of Music
WEBSITE:
URL:
CONTACT:303-978-9363
ORGANIZER;CN="Mary Reinker":http://arapahoeteaparty.ning.com/profile/M
 aryReinker
ATTACH;FMTTYPE="image/jpeg":
ATTENDEE;ROLE=REQ-PARTICIPANT;PARTSTAT=ACCEPTED;RSVP=TRUE;CN="Mary Rei
 nker":http://arapahoeteaparty.ning.com/profile/MaryReinker
ATTENDEE;ROLE=REQ-PARTICIPANT;PARTSTAT=TENTATIVE;RSVP=TRUE;CN=BeverlyW
 inters:http://arapahoeteaparty.ning.com/profile/BeverlyWinters
END:VEVENT
END:VCALENDAR
