BEGIN:VCALENDAR
PRODID:NingEventWidget-v1
VERSION:2.0
METHOD:PUBLISH
BEGIN:VEVENT
UID:3186561:Event:38816
DTSTAMP:20210313T172828Z
SUMMARY:Candidate Search 2012 (north area)
DESCRIPTION:FREE event\nÂ \nBroomfield 912 and Loveland 912 Project or
 ganizations have teamed up to sponsor a candidate search forum.Â  This
  is a nonpartisan effort to bring allÂ the candidates possible who wil
 l appear on the ballots from the northern metro area on to the north.Â
   There is a list of the candidates available on the web site, questio
 ns can be submitted when you RSVP.\nÂ \nThese groups were involved wit
 h a very successful candidate event in 2010 that drew approximately 70
 0 people to meet and hear the candidates.Â  Please RSVP so they can ar
 range for enough chairs to be available.\nÂ \nhttp://www.candidatesear
 ch2012.com/\nÂ \nNOTE:Â  The web site shows both Westminster and Broom
 field as the city for the event.Â  Perhaps someone will be able to res
 olve that question.Â \nÂ \nThis event was announced on Grassroots Radi
 o Colorado so other announcements may be heard there at 560 KLZ AM rad
 io weekdays 5-7 p.m.\nÂ \nPlease use the RSVP button on the web site s
 o they know how many chairs to plan for this event.\nÂ \n\nFor more in
 formation visit http://arapahoeteaparty.ning.com/events/candidate-sear
 ch-2012-north-area
DTSTART:20120929T200000Z
DTEND:20120929T230000Z
CATEGORIES:"candidate forum"
LOCATION:Tri-City Baptist Church
WEBSITE:http://www.candidatesearch2012.com/
URL:http://www.candidatesearch2012.com/
CONTACT:(303) 877-9770
ORGANIZER:[posted by W. Branstetter]
ATTACH;FMTTYPE="image/jpeg":
END:VEVENT
END:VCALENDAR
