BEGIN:VCALENDAR
PRODID:NingEventWidget-v1
VERSION:2.0
METHOD:PUBLISH
BEGIN:VEVENT
UID:3186561:Event:5947
DTSTAMP:20210313T172652Z
SUMMARY:Candidate Forum for Arapahoe County Candidates
DESCRIPTION:Be an informed voter. Participate in a candidate forum fea
 turing candidates for Arapahoe County Commissioner in Districts 2 & 4,
  Arapahoe County Assessor, Treasurer, Clerk & Recorder, Coroner, and S
 heriff. Ask your questions; hear their views.\n\nThursday, October 14,
  2010; 6 p.m.\nKoelbel Public Library\n5955 S. Holly Street\nCentennia
 l, Colorado 80121\n\nSponsored by League of Women of Voters of Arapaho
 e County\n\nFree & open to the public. Information: (303) 798-2939\n\n
 Join Us! Women & Men always welcome: (303) 690-8466\n\n***************
 ***************\n\nNote: This forum was mentioned at a discussion even
 t also sponsored by the League of Women Voters. All of the candidates 
 are expected at this event. It was noted that all positions are runnin
 g opposed which has not occurred for several years.\n\nAn ending time 
 for this event was not stipulated on the flyer; however, an hour and a
  half to two hours might be reasonably anticipated.\n\nFor more inform
 ation visit http://arapahoeteaparty.ning.com/events/candidate-forum-fo
 r-arapahoe
DTSTART:20101015T000000Z
DTEND:20101015T020000Z
CATEGORIES:"candidate forum"
LOCATION:Koelbel Library
WEBSITE:
URL:
CONTACT:(303) 798-2939
ORGANIZER:League of Women Voters [posted by W. Branstetter]
ATTACH;FMTTYPE="image/jpeg":
ATTENDEE;ROLE=REQ-PARTICIPANT;PARTSTAT=ACCEPTED;RSVP=TRUE;CN="W. Brans
 tetter":http://arapahoeteaparty.ning.com/profile/WBranstetter
END:VEVENT
END:VCALENDAR
