BEGIN:VCALENDAR
PRODID:NingEventWidget-v1
VERSION:2.0
METHOD:PUBLISH
BEGIN:VEVENT
UID:3186561:Event:44841
DTSTAMP:20210313T180052Z
SUMMARY:CANCELLED--Meeting with Sen. Morgan Carroll and other legislat
 ors
DESCRIPTION:CANCELLED--This meeting has been cancelled because Senator
  Carroll commented Monday that the Senate would convene at 5:00 p.m. (
 or was it 4:00 p.m.?) for several evenings to complete legislative wor
 k.\n \n \nOn state senator Morgan Carroll's web page there is an eve
 nt posted that is listed as \"MEETINGS WITH MORGAN, SU, RHONDA & NANCY
 \" that I believe is for senators Carroll and Todd and representatives
  SU Ryden and Rhonda Fields.  If you have time on this date please at
 tend their meeting and hear what they have to say firsthand.  Perhaps
  even get your questions answered.\n \nhttp://www.senmorgancarroll.co
 m/\n\nTHURSDAY, April 18, 2013 7:00 - 8:30PM Community College of Aur
 ora 16000 E Centretech Pkwy 3rd Thursday Every Month\n Topic:  ?\n\n\
 n\nFor more information visit http://arapahoeteaparty.ning.com/events/
 cancelled-meeting-with-sen-morgan-carroll-and-other-legislators
DTSTART:20130419T010000Z
DTEND:20130419T023000Z
CATEGORIES:meeting
LOCATION:Community College of Aurora
WEBSITE:http://www.senmorgancarroll.com/
URL:http://www.senmorgancarroll.com/
CONTACT:
ORGANIZER:Senator Morgan Carroll [posted by W. Branstetter]
ATTACH;FMTTYPE="image/jpeg":
END:VEVENT
END:VCALENDAR
