BEGIN:VCALENDAR
PRODID:NingEventWidget-v1
VERSION:2.0
METHOD:PUBLISH
BEGIN:VEVENT
UID:3186561:Event:38399
DTSTAMP:20210313T175808Z
SUMMARY:Backbone Radio w/ Matt Dunn and Krista Kafer
DESCRIPTION:Radio hosts, Matt Dunn and Krista Kafer, will offer their 
 commentary on events both cultural and political.\n \nProposed subjec
 ts:\n \n1.  Events in Aurora\n2.  Guest, Laura Carno is founder of 
 \"I Am Created Equal\"\nhttp://iamcreatedequal.com/\n \n3.  Guest, C
 lint Bolick is co-founder of Institute for Justice and is the author \
 "of the recently published book Two-Fer: Electing a President and a Su
 preme Court. The book shows how many of our most basic freedoms are in
  the hands of Supreme Court judges appointed by the president.  A pre
 sident’s philosophy regarding free speech, free exercise of religion
 , ownership of private property, and other essential rights endures fa
 r beyond his four to eight years in office because of the life tenure 
 of his Supreme Court nominees.\"\n \nDon’t miss it! Tune in to 710 
 KNUS or 1460 KZNT Colorado Springs or online at http://www.710knus.com
 / from 5 to 8 PM. Your smart choice for Sunday night radio.\n \n\nFor
  more information visit http://arapahoeteaparty.ning.com/events/backbo
 ne
DTSTART:20120722T230000Z
DTEND:20120723T020000Z
CATEGORIES:"radio show"
LOCATION:\"Radio  AM 710 KNUS\"
WEBSITE:http://www.710knus.com/
URL:http://www.710knus.com/
CONTACT:
ORGANIZER:Matt Dunn and Krista Kafer [posted by W. Branstetter]
ATTACH;FMTTYPE="image/jpeg":
ATTENDEE;ROLE=REQ-PARTICIPANT;PARTSTAT=ACCEPTED;RSVP=TRUE;CN="W. Brans
 tetter":http://arapahoeteaparty.ning.com/profile/WBranstetter
END:VEVENT
END:VCALENDAR
