BEGIN:VCALENDAR
PRODID:NingEventWidget-v1
VERSION:2.0
METHOD:PUBLISH
BEGIN:VEVENT
UID:3186561:Event:9664
DTSTAMP:20210313T173637Z
SUMMARY:Backbone Radio:  World Events; Jude Sandvall
DESCRIPTION: \n\"Rossputin\" and Christoper Sanders well discuss worl
 d events.  Jude Sandvall, an LPR graduate in the same class with Ross
 , will be a guest and discussion may be centered on Jude's candidacy f
 or Aurora's mayor.  [Note:  Jude spoke briefly at our meeting Wednes
 day evening.]\n \nRefer to the outline of the program at:\nhttp://bac
 kboneradio.net/\n \n \nThis is a radio program that could have topi
 cs of local interest--listen if you are interested.\n \nLPR = Leader
 ship Program of the Rockies\n \n\nFor more information visit http://a
 rapahoeteaparty.ning.com/events/backbone-radio-world-events
DTSTART:20110313T230000Z
DTEND:20110314T020000Z
CATEGORIES:"radio show"
LOCATION:Radio:  AM 710 KNUS or http://www.710knus.com/
WEBSITE:http://www.710knus.com/
URL:http://www.710knus.com/
CONTACT:
ORGANIZER:posted by W. Branstetter
ATTACH;FMTTYPE="image/jpeg":
ATTENDEE;ROLE=REQ-PARTICIPANT;PARTSTAT=ACCEPTED;RSVP=TRUE;CN="W. Brans
 tetter":http://arapahoeteaparty.ning.com/profile/WBranstetter
END:VEVENT
END:VCALENDAR
