BEGIN:VCALENDAR
PRODID:NingEventWidget-v1
VERSION:2.0
METHOD:PUBLISH
BEGIN:VEVENT
UID:3186561:Event:15772
DTSTAMP:20210313T175234Z
SUMMARY:Backbone Radio (with Paul Ryan interview and more)
DESCRIPTION:This week Ross Kaminsky covers news from the week in the f
 irst hour, interview Representative Paul Ryan in the second hour, and 
 interview author Douglas Fain (The Phantom's Song) in the third hour.Â
   Ross must have quite the connection to get the Wisconsin representat
 ive scheduled for a larger segment--nearly an hour.Â \nÂ \nLook for de
 tails at:\nhttp://backboneradio.net/\nÂ \nBackbone Radio program from 
 5 PM to 8 PM on 710 AM KNUS in Denver and 1460 AM KZNT in Colorado Spr
 ings.Listen on-line:\nhttp://den-a.plr.liquidcompass.net/player/flash/
 audio_player.php?id=KNUSAM&uid=145\nÂ \nCall station at:Â  303 696 197
 1.\nÂ \n\nFor more information visit http://arapahoeteaparty.ning.com/
 events/backbone-radio-with-paul-ryan
DTSTART:20110515T230000Z
DTEND:20110516T020000Z
CATEGORIES:radio
LOCATION:radio or internet
WEBSITE:
URL:
CONTACT:
ORGANIZER:posted by W. Branstetter
ATTACH;FMTTYPE="image/jpeg":
ATTENDEE;ROLE=REQ-PARTICIPANT;PARTSTAT=ACCEPTED;RSVP=TRUE;CN="W. Brans
 tetter":http://arapahoeteaparty.ning.com/profile/WBranstetter
END:VEVENT
END:VCALENDAR
