BEGIN:VCALENDAR
PRODID:NingEventWidget-v1
VERSION:2.0
METHOD:PUBLISH
BEGIN:VEVENT
UID:3186561:Event:22208
DTSTAMP:20210313T174806Z
SUMMARY:Backbone Radio with Jimmy Sengenberger hosting
DESCRIPTION:Jimmy Sengenberger will be sitting in for Ross Kaminsky ag
 ain and has a really good line up of guests.\n \n1.  For insight on 
 the recent economic news, Professor MARVIN GOODFRIEND of the Carnegie 
 Mellon Tepper School of Business will have comments. Dr. Goodfriend is
  a researcher at the National Bureau of Economic Research, Carnegie Me
 llon Professor of Economics and Chairman of the Gailliot Center for Pu
 blic Policy, and a former senior staff economist in the Reagan Adminis
 tration.2.  THEN, too taxing for Colorado? Rollie Heath is pushing a 
 brand-new, job-crushing tax proposal on the ballot in 2012. What are t
 he implications of this? Jimmy will talk with PENN PFIFFNER of the Ind
 ependence Institute about the \"Too Taxing for Colorado\" effort and j
 ust how destructive these tax hikes could be for Colorado.\n \nhttp:/
 /www.i2i.org/fiscalpolicyhomepage.php\n3.  PLUS, she's a College Repu
 blican dynamo and one of the foot soldiers in the conservative student
  insurgency at CU Boulder. Sophomore ASLINN SCOTT joins Jimmy for her 
 second time on the radio to explain how and why social media can and s
 hould be utilized effectively by Republicans. Plus, how can conservati
 ves tool their message effectively to win the election and especially 
 to reach out to young voters?  [Note:  Aslinn was on Grassroots Radi
 o August 4 and the podcast site is shown below.]\n \nhttp://grrc.podo
 matic.com/\n\n\nFor more information visit http://arapahoeteaparty.nin
 g.com/events/backbone-radio-with-jimmy-sengenberger-hosting
DTSTART:20110807T230000Z
DTEND:20110808T020000Z
CATEGORIES:"radio show"
LOCATION:Colorado radio at 710 KNUS AM (or 1460 AM KZNT Colo. Springs)
WEBSITE:http://www.710knus.com/
URL:http://www.710knus.com/
CONTACT:radio station (303) 696-1971
ORGANIZER:Jimmy Sengenberger (posted by W. Branstetter)
ATTACH;FMTTYPE="image/jpeg":
ATTENDEE;ROLE=REQ-PARTICIPANT;PARTSTAT=ACCEPTED;RSVP=TRUE;CN="W. Brans
 tetter":http://arapahoeteaparty.ning.com/profile/WBranstetter
END:VEVENT
END:VCALENDAR
