BEGIN:VCALENDAR
PRODID:NingEventWidget-v1
VERSION:2.0
METHOD:PUBLISH
BEGIN:VEVENT
UID:3186561:Event:27763
DTSTAMP:20210313T175430Z
SUMMARY:Backbone Radio with Jimmy Sengenberger hosting
DESCRIPTION:Jimmy Sengenberger is sitting in for Ross Kaminsky this ev
 ening on Backbone Radio and should be a show worth listening to.\n \n
 1.  Discussing conservative life on college campuses from current per
 spective to that of the Viet Nam and Reagan eras guests will include A
 slinn Scott a CU conservative activist and Tom Tancredo will be on as 
 well.\n \n2.  Occupy Wall Street and key political news will be cove
 red with more guests including voice impersonator Jimmie Viles.\n \n3
 .  Randy Corporon will be on representing Too Taxing for Colorado to 
 discuss Rollie Heath's Proposition 103.\n \nCheck Jimmy's outline at:
   http://www.facebook.com/event.php?eid=242477795800301\n \nCheck th
 e show out at 710 KNUS AM.  Call the studio at (303) 696-1971 to join
  the discussion.  Listen on-line at:\n \nhttp://www.710knus.com/\n 
 \nCheck out http://backboneradio.net/\n \n********************\n \nJ
 immy Sengenberger is a recent graduate of Regis University and hosted 
 \"Seng Center\" program on Regis' radio while he was there.  In recen
 t months, Jimmy has guest hosted for Backbone Radio, the Amy Oliver sh
 ow and other programs at KFKA in Greeley, and other shows.\n \n \n
  \n\nFor more information visit http://arapahoeteaparty.ning.com/even
 ts/backbone-radio-with-jimmy-sengenberger-hosting-1
DTSTART:20111009T230000Z
DTEND:20111010T020000Z
CATEGORIES:"talk radio"
LOCATION:radio or internet
WEBSITE:http://backboneradio.net/
URL:http://backboneradio.net/
CONTACT:(303) 696-1971
ORGANIZER:posted by W. Branstetter
ATTACH;FMTTYPE="image/jpeg":
ATTENDEE;ROLE=REQ-PARTICIPANT;PARTSTAT=ACCEPTED;RSVP=TRUE;CN="W. Brans
 tetter":http://arapahoeteaparty.ning.com/profile/WBranstetter
END:VEVENT
END:VCALENDAR
