BEGIN:VCALENDAR
PRODID:NingEventWidget-v1
VERSION:2.0
METHOD:PUBLISH
BEGIN:VEVENT
UID:3186561:Event:40238
DTSTAMP:20210313T173958Z
SUMMARY:Backbone Radio w/ Matt Dunn and Krista Kafer--Debate Review
DESCRIPTION:Radio hosts, Matt Dunn and Krista Kafer, will offer their 
 commentary on events both cultural and political.\n \n\"What a week! 
 Heading into Wednesday night’s debate in Denver, Romney was a man al
 ready on the ropes, bruised and battered by the polls. President Obama
  was flying like a butterfly. The stakes were as high as Republican mo
 rale was low. The match was on.\nEmerging from his corner, Romney glov
 ed up and spent 90 minutes ever-so-politely drubbing President Obama -
 - in front of no less than 67 million viewers. It was an epic performa
 nce. Indeed, the result may have been almost as lopsided had Romney be
 en debating an empty chair.\nMatt and Krista were a stone’s throw aw
 ay from the debate at the media center aka Spin Room where Krista was 
 live blogging for the Denver Post. Afterward they hung out in the Spin
  Room among the stunned and somewhat dejected press corps, celebrity p
 undits, and campaign staff. We'll offer our full debrief of the evenin
 g, in all its glorious detail. Let's just say Axelrod was looking a ta
 d grim.\n\nIt was pure jubilation the next day at CPAC. A speaker at t
 he event, Krista drank in the enthusiasm.  She still can’t stop smi
 ling.\n\nWhat’s up next? The Biden-Ryan debate. Will the silver-tong
 ued Joe Biden step up and save the day for Team Obama? Hmmm... We're b
 etting Axelrod is growing even grimmer at the prospect.\n\nWe’ll als
 o consider the case for privatizing Big Bird, the spiritual dimension 
 of an iPhone (or lack thereof), the poetry of Yeats and Arnold, illega
 l manatee riding and some novel uses for bear spray.\"\n \nDon’t mi
 ss it! Tune in to 710 KNUS or 1460 KZNT Colorado Springs or online at 
 http://www.710knus.com/ from 5 to 8 PM. Your smart choice for Sunday n
 ight radio.\n \nhttp://backboneradio.net/\n\n\nFor more information v
 isit http://arapahoeteaparty.ning.com/events/backbone-radio-w-matt-dun
 n-and-krista-kafer-debate-review
DTSTART:20121007T230000Z
DTEND:20121008T020000Z
CATEGORIES:"radio show"
LOCATION:\"Radio  AM 710 KNUS\"
WEBSITE:http://www.710knus.com/
URL:http://www.710knus.com/
CONTACT:
ORGANIZER:Matt Dunn and Krista Kafer [posted by W. Branstetter]
ATTACH;FMTTYPE="image/jpeg":
ATTENDEE;ROLE=REQ-PARTICIPANT;PARTSTAT=ACCEPTED;RSVP=TRUE;CN="W. Brans
 tetter":http://arapahoeteaparty.ning.com/profile/WBranstetter
END:VEVENT
END:VCALENDAR
