BEGIN:VCALENDAR
PRODID:NingEventWidget-v1
VERSION:2.0
METHOD:PUBLISH
BEGIN:VEVENT
UID:3186561:Event:40123
DTSTAMP:20210313T172846Z
SUMMARY:Backbone Radio w/ Matt Dunn and Krista Kafer--Debate Prep
DESCRIPTION:Radio hosts, Matt Dunn and Krista Kafer, will offer their 
 commentary on events both cultural and political.\n \n\"We welcome yo
 u to \"debate prep\" and \"ladies night\" on Backbone Radio. The first
  presidential debate comes to Colorado on Wednesday -- the roads aroun
 d I-25 will be closed and the stakes will be high. The pressure mounts
 , the air grows heavy with anticipationIn the one corner, Team Obama i
 s attempting to lower expectations for their guy, claiming he's too bu
 sy being president to properly prepare. You know, spending all that ti
 me with Letterman and the ladies from The View. For whatever reason, t
 hey're doing all they can to raise expectations for their opponent.In 
 the other corner, Team Romney seems already on the ropes, facing a pal
 pable GOP morale problem and plentiful nervous nellies in the bleacher
 s. With the skewed polls showing some slippage, some are saying it's \
 "do or die\" time for Romney. So - will Romney take the gloves off? Wi
 ll Obama survive without his Teleprompter? Who will fly like a butterf
 ly? Who will sting like a bee? We'll take our own shots at \"debate pr
 ep\" -- what to expect, what it all means, what they should do and how
  they should do it. Hint to Romney: Let’s Roll!We'll also offer anot
 her \"Ladies Night\" installment in our conversation with Debbie Brown
 , director of the Colorado Women's Alliance. How's Mitt doing with the
  ladies? Is Obama getting anywhere with his specious \"War on Women\" 
 charge?Also, for those who collect campaign buttons (as does Kafer), w
 e’ll take a look at this unique American tradition. It goes all the 
 way back to 1828. Who would have guessed?\"\n\n \nDon’t miss it! Tu
 ne in to 710 KNUS or 1460 KZNT Colorado Springs or online at http://ww
 w.710knus.com/ from 5 to 8 PM. Your smart choice for Sunday night radi
 o.\n \nhttp://backboneradio.net/\n\n\nFor more information visit http
 ://arapahoeteaparty.ning.com/events/backbone-radio-w-matt-dunn-and-kri
 sta-kafer-debate-prep
DTSTART:20120930T230000Z
DTEND:20121001T020000Z
CATEGORIES:"radio show"
LOCATION:\"Radio  AM 710 KNUS\"
WEBSITE:http://www.710knus.com/
URL:http://www.710knus.com/
CONTACT:
ORGANIZER:Matt Dunn and Krista Kafer [posted by W. Branstetter]
ATTACH;FMTTYPE="image/jpeg":
ATTENDEE;ROLE=REQ-PARTICIPANT;PARTSTAT=ACCEPTED;RSVP=TRUE;CN="W. Brans
 tetter":http://arapahoeteaparty.ning.com/profile/WBranstetter
END:VEVENT
END:VCALENDAR
