BEGIN:VCALENDAR
PRODID:NingEventWidget-v1
VERSION:2.0
METHOD:PUBLISH
BEGIN:VEVENT
UID:3186561:Event:40501
DTSTAMP:20210313T174048Z
SUMMARY:Backbone Radio w/ Matt Dunn and Krista Kafer
DESCRIPTION:Radio hosts, Matt Dunn and Krista Kafer, will offer their 
 commentary on events both cultural and political.\n \n\"We’ve got t
 hree terrific guests: We’ll talk with Debbie Brown of the Colorado W
 omen’s Alliance about how the Romney Campaign has erased the gender 
 gap this election by appealing to women’s minds and hearts, not thei
 r parts, as the other campaign has attempted with paltry returns.  Di
 d you catch the new campaign ad by Team Obama likening voting to losin
 g one’s virginity? Catch Krista’s blog on the topic. \n\nWe’ll 
 also talk Debbie Manzanares of the Human Trafficking Task Force of Sou
 thern Colorado about their efforts to put an end to the tragedy of tra
 fficking through advocacy, awareness, rehabilitation, and services for
  survivors. Finally, John S. Lyons, candidate for Colorado Senate Dist
 rict 28, will give us his take on these last two weeks on the campaign
  trail.\n\nThe state of the presidential race with 9 days left has Col
 orado dead even at 47.8 to 47.8 in the Real Clear Politics composite p
 oll average. Right down to the decimal point, it doesn't get closer th
 an this.\nWe were blown away by Kyle Clark’s 9News interview of Pres
 ident Obama on Friday night. Making the most of his opportunity to spe
 ak with the President, Reporter Clark asked some pointed questions abo
 ut  Benghazi, Abound Solar, and the president’s use of the word “
 bull**itter” to describe his opponent. Not exactly civil!  Clark ge
 ts the first annual Backbone Award for his noble example of reportage.
  Mainstream media take note!\nWe'll also review the presidential debat
 es en summarium, the latest gaffes from Joe Biden -- Delirium Bidens -
 - and we'll debrief on last night's kinetic packed house KNUS \"Talker
 s Tour\" event with Karl Rove, Hugh Hewitt and Mike Gallagher. A great
  time was had by all.\"\n \nDon’t miss it! Tune in to 710 KNUS or 1
 460 KZNT Colorado Springs or online at http://www.710knus.com/ from 5 
 to 8 PM. Call  303-696-1071. Your smart choice for Sunday night radio
 .\n \nhttp://backboneradio.net/\n\n\nFor more information visit http:
 //arapahoeteaparty.ning.com/events/backbone-radio-w-matt-dunn-and-kris
 ta-kafer-9
DTSTART:20121028T230000Z
DTEND:20121029T020000Z
CATEGORIES:"radio show"
LOCATION:\"Radio  AM 710 KNUS\"
WEBSITE:http://www.710knus.com/
URL:http://www.710knus.com/
CONTACT:
ORGANIZER:Matt Dunn and Krista Kafer [posted by W. Branstetter]
ATTACH;FMTTYPE="image/jpeg":
ATTENDEE;ROLE=REQ-PARTICIPANT;PARTSTAT=ACCEPTED;RSVP=TRUE;CN="W. Brans
 tetter":http://arapahoeteaparty.ning.com/profile/WBranstetter
END:VEVENT
END:VCALENDAR
