BEGIN:VCALENDAR
PRODID:NingEventWidget-v1
VERSION:2.0
METHOD:PUBLISH
BEGIN:VEVENT
UID:3186561:Event:40673
DTSTAMP:20210313T174928Z
SUMMARY:Backbone Radio w/ Matt Dunn and Krista Kafer
DESCRIPTION:Radio hosts, Matt Dunn and Krista Kafer, will offer their 
 commentary on events both cultural and political.\n \n\"We’ve got t
 wo great guests. We’ll interview the distinguished historian Walter 
 R. Borneman, author of the recent The Admirals: Nimitz, Halsey, Leahy 
 and King — The Five Star Admirals Who Won the War At Sea. Our discus
 sion will focus on the character and leadership qualities of these leg
 endary individuals. We’ll also talk with University of Colorado Prof
 essor Michael Berry, co-author of the recently published research pred
 icting a Romney win.\n\nWith 16 days unto election, things really coul
 dn’t be more exciting — or more encouraging for Mitt Romney. Now e
 njoying a small lead in the polls, and even a slight lead in estimates
  of the electoral map, the GOP is feeling hopeful but not quite confid
 ent.\nThe empire is striking back, however, with vicious ads accusing 
 Republican candidates of being pro-cancer, anti-women, and haters of t
 he poor. Will the unprecedented level of government welfare and an eme
 rgence of an entitled citizenry make the election a foregone conclusio
 n for the Left as a recent WSJ editorial suggests? Which way is the wi
 nd blowing?\n\nNow more than ever, Colorado remains crucial for both c
 andidates. As we witness ad after ad, and appearance after appearance,
  it’s time to step back and take a look at the grassroots realities 
 here in the Centennial State. The fate of the nation may rest upon the
  suburbs of Arapahoe and Jefferson counties.\nWe’ll review the past 
 three debates and we’ll offer our advice on “foreign policy” pur
 suant to tomorrow night’s final presidential debate. Here’s a hint
 : It’s time for Romney to set the record straight on Obama’s sub-o
 ptimal Libyan fiasco, and also offer some real Republican contrast wit
 h the old, often unhelpful policies of George W. Bush. Barring a surpr
 ise cameo intervention from Candy Crowley, these tasks should be more 
 than manageable for the challenger.\nPlus, we’ll discuss why Barbara
  Streisand and Bruce Springsteen are stepping it up for Obama, the dea
 th of Newsweek and why the socialists in France are trying to ban “h
 omework” in French public schools.\"\n \nDon’t miss it! Tune in t
 o 710 KNUS or 1460 KZNT Colorado Springs or online at http://www.710kn
 us.com/ from 5 to 8 PM. Call  303-696-1071. Your smart choice for Sun
 day night radio.\n \nhttp://backboneradio.net/\n\n\nFor more informat
 ion visit http://arapahoeteaparty.ning.com/events/backbone-radio-w-mat
 t-dunn-and-krista-kafer-8
DTSTART:20121021T230000Z
DTEND:20121022T020000Z
CATEGORIES:"radio show"
LOCATION:\"Radio  AM 710 KNUS\"
WEBSITE:http://www.710knus.com/
URL:http://www.710knus.com/
CONTACT:
ORGANIZER:Matt Dunn and Krista Kafer [posted by W. Branstetter]
ATTACH;FMTTYPE="image/jpeg":
ATTENDEE;ROLE=REQ-PARTICIPANT;PARTSTAT=ACCEPTED;RSVP=TRUE;CN="Jacob Th
 ompson":http://arapahoeteaparty.ning.com/profile/JacobThompson
ATTENDEE;ROLE=REQ-PARTICIPANT;PARTSTAT=ACCEPTED;RSVP=TRUE;CN="W. Brans
 tetter":http://arapahoeteaparty.ning.com/profile/WBranstetter
END:VEVENT
END:VCALENDAR
