BEGIN:VCALENDAR
PRODID:NingEventWidget-v1
VERSION:2.0
METHOD:PUBLISH
BEGIN:VEVENT
UID:3186561:Event:40087
DTSTAMP:20210313T173008Z
SUMMARY:Backbone Radio w/ Matt Dunn and Krista Kafer
DESCRIPTION:Radio hosts, Matt Dunn and Krista Kafer, will offer their 
 commentary on events both cultural and political.\n \n\"Well have two
  terrific guests: Douglas R. Groothuis, the brainy Professor of Philos
 ophy at Denver Seminary will talk about his support for Mitt Romney, t
 he professor’s disagreement with the Mormon religion notwithstanding
 . Check out his most recent writing on the subject—“Why This Conse
 rvative Evangelical Counter-Cult Expert Will Vote for Romney.” We’
 ll also talk with Pam Benigno of the Independence Institute about the 
 Denver Public School’s teacher evaluation system that rewards teache
 rs who “encourage students to challenge and question the dominant cu
 lture” and “work for social justice.”  Sounds like an excuse to
  take a fieldtrip to an Occupy Denver campout.\n\nSpeaking of question
 ing the party line, some on the left are losing their faith in Preside
 nt Obama. Rock star Dave Matthews, for instance, tells CNN he’s “s
 lightly heartbroken” about his continued support for Obama. And over
  at the liberal New Republic, there’s Tim Noah saying: “I need a p
 resident who can cheer me up, not a president who needs me to cheer hi
 m up.” And then there’s Obama himself, in his Univision interview,
  taking time to dwell on his failures as chief executive.\n\nWe have 4
 4 days unto election and the polls are essentially even. But some cons
 ervatives are “going wobbly” on Romney’s prospects. Kristol, Fru
 m, Brooks, Noonan — what’s going on with the weak-knees? Are they 
 onto something — or should they buck up and show some backbone?\nAls
 o, we’ll take a little look into America’s thriving $2.3 billion t
 attoo industry. A new study shows that 21% of Americans have at least 
 one tattoo, and ultimately 50% of young people will choose to have the
 m removed. Plus, we’ll talk about why Democrats recently voted again
 st welfare work requirements, the “lotus-eaters” of Homer’s Odys
 sey, FDR on redistribution, JFK on taxes, and a little more about Char
 les Kesler’s great new book, I Am the Change: Barack Obama and the C
 risis of Liberalism.\"\n \n \nDon’t miss it! Tune in to 710 KNUS o
 r 1460 KZNT Colorado Springs or online at http://www.710knus.com/ from
  5 to 8 PM. Your smart choice for Sunday night radio.\n \nhttp://back
 boneradio.net/\n\n\nFor more information visit http://arapahoeteaparty
 .ning.com/events/backbone-radio-w-matt-dunn-and-krista-kafer-6
DTSTART:20120923T230000Z
DTEND:20120924T020000Z
CATEGORIES:"radio show"
LOCATION:\"Radio  AM 710 KNUS\"
WEBSITE:http://www.710knus.com/
URL:http://www.710knus.com/
CONTACT:
ORGANIZER:Matt Dunn and Krista Kafer [posted by W. Branstetter]
ATTACH;FMTTYPE="image/jpeg":
ATTENDEE;ROLE=REQ-PARTICIPANT;PARTSTAT=ACCEPTED;RSVP=TRUE;CN="W. Brans
 tetter":http://arapahoeteaparty.ning.com/profile/WBranstetter
END:VEVENT
END:VCALENDAR
