BEGIN:VCALENDAR
PRODID:NingEventWidget-v1
VERSION:2.0
METHOD:PUBLISH
BEGIN:VEVENT
UID:3186561:Event:48416
DTSTAMP:20210313T172043Z
SUMMARY:Backbone Radio w/ Matt Dunn and Krista Kafer
DESCRIPTION:Radio hosts, Matt Dunn and Krista Kafer, will offer their 
 commentary on events both cultural and political.\n \n  Matt and Kri
 sta will likely have other guests and topics of interest so stay tuned
 .\n \nDon’t miss it! Tune in to 710 KNUS or 1460 KZNT Colorado Spri
 ngs or online at http://www.710knus.com/ from 5 to 8 PM. Call  303-69
 6-1071. Your smart choice for Sunday night radio.\n \nhttp://backbone
 radio.net/\n https://www.facebook.com/BackboneRadio\n Podcasts for the
  program can be found at the web pages of 710 KNUS:  http://www.710knu
 s.com/\n\n\n\nFor more information visit http://arapahoeteaparty.ning.
 com/events/backbone-radio-w-matt-dunn-and-krista-kafer-599
DTSTART:20131118T000000Z
DTEND:20131118T030000Z
CATEGORIES:"radio show"
LOCATION:\"Radio  AM 710 KNUS\"
WEBSITE:http://www.710knus.com/
URL:http://www.710knus.com/
CONTACT:
ORGANIZER:Matt Dunn and Krista Kafer [posted by W. Branstetter]
ATTACH;FMTTYPE="image/jpeg":
ATTENDEE;ROLE=REQ-PARTICIPANT;PARTSTAT=ACCEPTED;RSVP=TRUE;CN="W. Brans
 tetter":http://arapahoeteaparty.ning.com/profile/WBranstetter
END:VEVENT
END:VCALENDAR
