BEGIN:VCALENDAR
PRODID:NingEventWidget-v1
VERSION:2.0
METHOD:PUBLISH
BEGIN:VEVENT
UID:3186561:Event:38824
DTSTAMP:20210313T180655Z
SUMMARY:Backbone Radio w/ Matt Dunn and Krista Kafer
DESCRIPTION:Radio hosts, Matt Dunn and Krista Kafer, will offer their 
 commentary on events both cultural and political.\n \n\"We'll have th
 ree great guests. Timothy Sandefur, of the Pacific Legal Foundation, w
 ill offer his unflattering take on Obamacare.  We’ll talk with Lind
 a Appel Lipsius, CEO of a new Colorado business – Teatulia which bri
 ngs us the best in organic tea from Bangladesh. Love tea? Tune in.\n 
 \nAnd we'll interview legend Doc Holliday. Yes, that's right, the one 
 and only Doc Holliday -- part-time dentist, full-time rascal, friend o
 f Wyatt Earp, participant in the Gunfight at the OK Corral, and presen
 tly permanent resident of Glenwood Springs, Colorado.  We'll find out
  what Doc's been up to lately.\n\nWe'll also dissect the Democratic Na
 tional Convention, a week of celebration which included plentiful prof
 it-bashing, no less than three votes against God, and a grande finale 
 from a drastically downsized venue. All of which was inconveniently pu
 nctuated, the morning after, with another round of terrible job number
 s.\n\nYes, friends, it was a week of ardent pandering, with victim-du-
 jour Sandra Fluke on hand in prime time and glowing words from the not
 orious womanizer-in-chief Bill Clinton.  Krista isn’t buying the co
 me-on line. Are other women willing to trade freedom for free stuff? T
 ime will tell.\"\n \nDon’t miss it! Tune in to 710 KNUS or 1460 KZN
 T Colorado Springs or online at http://www.710knus.com/ from 5 to 8 PM
 . Your smart choice for Sunday night radio.\n \nhttp://backboneradio.
 net/\n\n\nFor more information visit http://arapahoeteaparty.ning.com/
 events/backbone-radio-w-matt-dunn-and-krista-kafer-4
DTSTART:20120909T230000Z
DTEND:20120910T020000Z
CATEGORIES:"radio show"
LOCATION:\"Radio  AM 710 KNUS\"
WEBSITE:http://www.710knus.com/
URL:http://www.710knus.com/
CONTACT:
ORGANIZER:Matt Dunn and Krista Kafer [posted by W. Branstetter]
ATTACH;FMTTYPE="image/jpeg":
ATTENDEE;ROLE=REQ-PARTICIPANT;PARTSTAT=ACCEPTED;RSVP=TRUE;CN="W. Brans
 tetter":http://arapahoeteaparty.ning.com/profile/WBranstetter
END:VEVENT
END:VCALENDAR
