BEGIN:VCALENDAR
PRODID:NingEventWidget-v1
VERSION:2.0
METHOD:PUBLISH
BEGIN:VEVENT
UID:3186561:Event:49181
DTSTAMP:20210313T172242Z
SUMMARY:Backbone Radio w/ Matt Dunn and Krista Kafer
DESCRIPTION:Radio hosts, Matt Dunn and Krista Kafer, will offer their 
 commentary on events both cultural and political.\n \n  Matt and Kri
 sta have guests and topics of interest so tune in Sundays 5:00 p.m. to
  8:00 p.m.\n \nDon’t miss it! Tune in to 710 KNUS or 1460 KZNT Colo
 rado Springs or online at http://www.710knus.com/ from 5 to 8 PM. Call
   303-696-1071. Your smart choice for Sunday night radio.\n \nhttp:/
 /backboneradio.net/\n https://www.facebook.com/BackboneRadio\n Podcast
 s for the program can be found at the web pages of 710 KNUS:  http://w
 ww.710knus.com/\n\n\n\nFor more information visit http://arapahoeteapa
 rty.ning.com/events/backbone-radio-w-matt-dunn-and-krista-kafer-318
DTSTART:20140303T000000Z
DTEND:20140303T030000Z
CATEGORIES:"radio show"
LOCATION:\"Radio  AM 710 KNUS\"
WEBSITE:http://www.710knus.com/
URL:http://www.710knus.com/
CONTACT:
ORGANIZER:Matt Dunn and Krista Kafer [posted by W. Branstetter]
ATTACH;FMTTYPE="image/jpeg":
ATTENDEE;ROLE=REQ-PARTICIPANT;PARTSTAT=ACCEPTED;RSVP=TRUE;CN="W. Brans
 tetter":http://arapahoeteaparty.ning.com/profile/WBranstetter
END:VEVENT
END:VCALENDAR
